Workbook
Name CIR1_Gam_Kap: 'Tsy Recalibration'!$F$4
Name CIR1_Gamma: 'Tsy Recalibration'!$E$4
Name CIR1_Kappa: 'Tsy Recalibration'!$C$4
Name CIR1_Sigma: 'Tsy Recalibration'!$D$4
Name CIR1_Theta: 'Tsy Recalibration'!$B$4
Name CIR2_Gam_Kap: 'Tsy Recalibration'!$F$5
Name CIR2_Gamma: 'Tsy Recalibration'!$E$5
Name CIR2_Kappa: 'Tsy Recalibration'!$C$5
Name CIR2_Sigma: 'Tsy Recalibration'!$D$5
Name CIR2_Theta: 'Tsy Recalibration'!$B$5
Name CIR3_Gam_Kap: 'Tsy Recalibration'!$F$6
Name CIR3_Gamma: 'Tsy Recalibration'!$E$6
Name CIR3_Kappa: 'Tsy Recalibration'!$C$6
Name CIR3_Sigma: 'Tsy Recalibration'!$D$6
Name CIR3_Theta: 'Tsy Recalibration'!$B$6
Name DisplayStateVariables: 'Tsy Recalibration'!$L$1
Name Shift: 'Tsy Recalibration'!$B$9
Name StateVar1: 'Tsy Recalibration'!$U$35
Name StateVar2: 'Tsy Recalibration'!$U$36
Name StateVar3: 'Tsy Recalibration'!$U$37
Name StateVariable1: 'Tsy Recalibration'!$F$12
Name StateVariable2: 'Tsy Recalibration'!$F$13
Name StateVariable3: 'Tsy Recalibration'!$F$14
Name TsyRecalChartTitle: 'Tsy Recalibration'!$B$1

Sheet Tsy Recalibration
A1: Chart Title | B1: Treasury Fitting Results for GEMS-NAIC Calibration at 02/28/2025 | I1: Chart Text Box - State Variables | L1: ="State Variables"&CHAR(10)&TEXT(ROUND(U37,6),"0.0000%")&" x1"&CHAR(10)&TEXT(ROUND(U36,6),"0.0000%")&" x2 "&CHAR(10)&TEXT(ROUND(U35,6),"0.0000%")&" x3" -> State Variables 6.1487% x1 6.9480% x2 4.5635% x3
A2: Model Parameters | B2: These will not change from month to month for NAIC | L2: Treasury Model Calibration Results | T2: Auxiliary Functions
A3: CIR Process | B3: Theta | C3: Kappa | D3: Sigma | E3: Gamma | F3: Gamma + Kappa | M3: Coupon Curve | T3: Maturity (Years) | U3: =1/12 -> 0.083333333 | V3: 0.25 | W3: 0.5 | X3: =W3+0.5 -> 1 | Y3: =X3+0.5 -> 1.5 | Z3: =Y3+0.5 -> 2 | AA3: =Z3+0.5 -> 2.5 | AB3: =AA3+0.5 -> 3 | AC3: =AB3+0.5 -> 3.5 | AD3: =AC3+0.5 -> 4 | AE3: =AD3+0.5 -> 4.5 | ... CD3: =CC3+0.5 -> 30
A4: CIR 1 | B4: 0.470582 | C4: 9.761558 | D4: 0.025265 | E4: =SQRT(CIR1_Kappa^2+2*CIR1_Sigma^2) -> 9.7616234 | F4: =CIR1_Kappa+CIR1_Gamma -> 19.523181 | M4: Actual | N4: Fitted | O4: Difference
A5: CIR 2 | B5: 0.0155 | C5: 0.202316 | D5: 0.057519 | E5: =SQRT(CIR2_Kappa^2+2*CIR2_Sigma^2) -> 0.21805649 | F5: =CIR2_Kappa+CIR2_Gamma -> 0.42037249 | L5: =1/12 -> 0.083333333 | M5: 0.0438 | N5: ='Tsy Recalibration'!$U$25 -> 0.045849851 | O5: =M5-N5 -> -0.0020498509 | T5: CIR 1
A6: CIR 3 | B6: 0.001267 | C6: 1.7e-05 | D6: 0.048504 | E6: =SQRT(CIR3_Kappa^2+2*CIR3_Sigma^2) -> 0.068595017 | F6: =CIR3_Kappa+CIR3_Gamma -> 0.068612017 | L6: 0.25 | M6: 0.0432 | N6: ='Tsy Recalibration'!$V$25 -> 0.041646174 | O6: =M6-N6 -> 0.0015538258 | T6: A(T) | U6: =(2*CIR1_Theta/CIR1_Sigma^2)*LN(2*CIR1_Gamma*EXP(CIR1_Gam_Kap*U$3/2)/(CIR1_Gam_Kap*(EXP(CIR1_Gamma*U$3)-1)+2*CIR1_Gamma)) -> -0.0012681297 | V6: =(2*CIR1_Theta/CIR1_Sigma^2)*LN(2*CIR1_Gamma*EXP(CIR1_Gam_Kap*V$3/2)/(CIR1_Gam_Kap*(EXP(CIR1_Gamma*V$3)-1)+2*CIR1_Gamma)) -> -0.0075436651 | W6: =(2*CIR1_Theta/CIR1_Sigma^2)*LN(2*CIR1_Gamma*EXP(CIR1_Gam_Kap*W$3/2)/(CIR1_Gam_Kap*(EXP(CIR1_Gamma*W$3)-1)+2*CIR1_Gamma)) -> -0.019202762 | X6: =(2*CIR1_Theta/CIR1_Sigma^2)*LN(2*CIR1_Gamma*EXP(CIR1_Gam_Kap*X$3/2)/(CIR1_Gam_Kap*(EXP(CIR1_Gamma*X$3)-1)+2*CIR1_Gamma)) -> -0.043269315 | Y6: =(2*CIR1_Theta/CIR1_Sigma^2)*LN(2*CIR1_Gamma*EXP(CIR1_Gam_Kap*Y$3/2)/(CIR1_Gam_Kap*(EXP(CIR1_Gamma*Y$3)-1)+2*CIR1_Gamma)) -> -0.067372789 | Z6: =(2*CIR1_Theta/CIR1_Sigma^2)*LN(2*CIR1_Gamma*EXP(CIR1_Gam_Kap*Z$3/2)/(CIR1_Gam_Kap*(EXP(CIR1_Gamma*Z$3)-1)+2*CIR1_Gamma)) -> -0.091476543 | AA6: =(2*CIR1_Theta/CIR1_Sigma^2)*LN(2*CIR1_Gamma*EXP(CIR1_Gam_Kap*AA$3/2)/(CIR1_Gam_Kap*(EXP(CIR1_Gamma*AA$3)-1)+2*CIR1_Gamma)) -> -0.1155803 | AB6: =(2*CIR1_Theta/CIR1_Sigma^2)*LN(2*CIR1_Gamma*EXP(CIR1_Gam_Kap*AB$3/2)/(CIR1_Gam_Kap*(EXP(CIR1_Gamma*AB$3)-1)+2*CIR1_Gamma)) -> -0.13968405 | ... CD6: =(2*CIR1_Theta/CIR1_Sigma^2)*LN(2*CIR1_Gamma*EXP(CIR1_Gam_Kap*CD$3/2)/(CIR1_Gam_Kap*(EXP(CIR1_Gamma*CD$3)-1)+2*CIR1_Gamma)) -> -1.4412869
L7: 0.5 | M7: 0.0425 | N7: =OFFSET('Tsy Recalibration'!$V$25,0,2*$L7) -> 0.039442531 | O7: =M7-N7 -> 0.0030574694 | T7: B(T) | U7: =(-2*(EXP(CIR1_Gamma*U$3)-1))/(CIR1_Gam_Kap*(EXP(CIR1_Gamma*U$3)-1)+2*CIR1_Gamma) -> -0.057027742 | V7: =(-2*(EXP(CIR1_Gamma*V$3)-1))/(CIR1_Gam_Kap*(EXP(CIR1_Gamma*V$3)-1)+2*CIR1_Gamma) -> -0.093516956 | W7: =(-2*(EXP(CIR1_Gamma*W$3)-1))/(CIR1_Gam_Kap*(EXP(CIR1_Gamma*W$3)-1)+2*CIR1_Gamma) -> -0.10166469 | X7: =(-2*(EXP(CIR1_Gamma*X$3)-1))/(CIR1_Gam_Kap*(EXP(CIR1_Gamma*X$3)-1)+2*CIR1_Gamma) -> -0.10243642 | Y7: =(-2*(EXP(CIR1_Gamma*Y$3)-1))/(CIR1_Gam_Kap*(EXP(CIR1_Gamma*Y$3)-1)+2*CIR1_Gamma) -> -0.10244228 | Z7: =(-2*(EXP(CIR1_Gamma*Z$3)-1))/(CIR1_Gam_Kap*(EXP(CIR1_Gamma*Z$3)-1)+2*CIR1_Gamma) -> -0.10244232 | AA7: =(-2*(EXP(CIR1_Gamma*AA$3)-1))/(CIR1_Gam_Kap*(EXP(CIR1_Gamma*AA$3)-1)+2*CIR1_Gamma) -> -0.10244232 | AB7: =(-2*(EXP(CIR1_Gamma*AB$3)-1))/(CIR1_Gam_Kap*(EXP(CIR1_Gamma*AB$3)-1)+2*CIR1_Gamma) -> -0.10244232 | ... CD7: =(-2*(EXP(CIR1_Gamma*CD$3)-1))/(CIR1_Gam_Kap*(EXP(CIR1_Gamma*CD$3)-1)+2*CIR1_Gamma) -> -0.10244232
A8: Time | B8: Shift Function | L8: 1 | M8: 0.0408 | N8: =OFFSET('Tsy Recalibration'!$V$25,0,2*$L8) -> 0.038700651 | O8: =M8-N8 -> 0.0020993495 | T8: A(T) * -1/t | U8: =U6*-1/U$3 -> 0.015217556 | V8: =V6*-1/V$3 -> 0.03017466 | W8: =W6*-1/W$3 -> 0.038405524 | X8: =X6*-1/X$3 -> 0.043269315 | Y8: =Y6*-1/Y$3 -> 0.044915193 | Z8: =Z6*-1/Z$3 -> 0.045738271 | AA8: =AA6*-1/AA$3 -> 0.046232119 | AB8: =AB6*-1/AB$3 -> 0.046561352 | ... CD8: =CD6*-1/CD$3 -> 0.048042896
A9: 0 | B9: -0.12761614 | L9: 2 | M9: 0.0399 | N9: =OFFSET('Tsy Recalibration'!$V$25,0,2*$L9) -> 0.039102495 | O9: =M9-N9 -> 0.00079750509 | T9: B(T) * -1/t | U9: =U7*-1/U$3 -> 0.6843329 | V9: =V7*-1/V$3 -> 0.37406782 | W9: =W7*-1/W$3 -> 0.20332939 | X9: =X7*-1/X$3 -> 0.10243642 | Y9: =Y7*-1/Y$3 -> 0.06829485 | Z9: =Z7*-1/Z$3 -> 0.05122116 | AA9: =AA7*-1/AA$3 -> 0.040976928 | AB9: =AB7*-1/AB$3 -> 0.03414744 | ... CD9: =CD7*-1/CD$3 -> 0.003414744
A10: Only these results will be batch import to the new month dfa | L10: 3 | M10: 0.0399 | N10: =OFFSET('Tsy Recalibration'!$V$25,0,2*$L10) -> 0.0398117 | O10: =M10-N10 -> 8.8299635e-05 | T10: CIR 2
A11: Time | B11: Shift Function | C11: Impact | E11: Tenor | F11: Yield | L11: 5 | M11: 0.0403 | N11: =OFFSET('Tsy Recalibration'!$V$25,0,2*$L11) -> 0.041151402 | O11: =M11-N11 -> -0.00085140212 | T11: A(T) | U11: =(2*CIR2_Theta/CIR2_Sigma^2)*LN(2*CIR2_Gamma*EXP(CIR2_Gam_Kap*U$3/2)/(CIR2_Gam_Kap*(EXP(CIR2_Gamma*U$3)-1)+2*CIR2_Gamma)) -> -5.3518154e-05 | V11: =(2*CIR2_Theta/CIR2_Sigma^2)*LN(2*CIR2_Gamma*EXP(CIR2_Gam_Kap*V$3/2)/(CIR2_Gam_Kap*(EXP(CIR2_Gamma*V$3)-1)+2*CIR2_Gamma)) -> -0.00047630281 | W11: =(2*CIR2_Theta/CIR2_Sigma^2)*LN(2*CIR2_Gamma*EXP(CIR2_Gam_Kap*W$3/2)/(CIR2_Gam_Kap*(EXP(CIR2_Gamma*W$3)-1)+2*CIR2_Gamma)) -> -0.0018736649 | X11: =(2*CIR2_Theta/CIR2_Sigma^2)*LN(2*CIR2_Gamma*EXP(CIR2_Gam_Kap*X$3/2)/(CIR2_Gam_Kap*(EXP(CIR2_Gamma*X$3)-1)+2*CIR2_Gamma)) -> -0.0072509307 | Y11: =(2*CIR2_Theta/CIR2_Sigma^2)*LN(2*CIR2_Gamma*EXP(CIR2_Gam_Kap*Y$3/2)/(CIR2_Gam_Kap*(EXP(CIR2_Gamma*Y$3)-1)+2*CIR2_Gamma)) -> -0.015791142 | Z11: =(2*CIR2_Theta/CIR2_Sigma^2)*LN(2*CIR2_Gamma*EXP(CIR2_Gam_Kap*Z$3/2)/(CIR2_Gam_Kap*(EXP(CIR2_Gamma*Z$3)-1)+2*CIR2_Gamma)) -> -0.027184833 | AA11: =(2*CIR2_Theta/CIR2_Sigma^2)*LN(2*CIR2_Gamma*EXP(CIR2_Gam_Kap*AA$3/2)/(CIR2_Gam_Kap*(EXP(CIR2_Gamma*AA$3)-1)+2*CIR2_Gamma)) -> -0.041151246 | AB11: =(2*CIR2_Theta/CIR2_Sigma^2)*LN(2*CIR2_Gamma*EXP(CIR2_Gam_Kap*AB$3/2)/(CIR2_Gam_Kap*(EXP(CIR2_Gamma*AB$3)-1)+2*CIR2_Gamma)) -> -0.05743597 | ... CD11: =(2*CIR2_Theta/CIR2_Sigma^2)*LN(2*CIR2_Gamma*EXP(CIR2_Gam_Kap*CD$3/2)/(CIR2_Gam_Kap*(EXP(CIR2_Gamma*CD$3)-1)+2*CIR2_Gamma)) -> -1.8683874
A12: 0 | B12: =Shift -> -0.12761614 | C12: 0 | E12: =1/12 -> 0.083333333 | F12: =VLOOKUP(E12,'Tsy Recalibration'!$X$45:$AC$106,6) -> 0.042938065 | L12: 7 | M12: 0.0414 | N12: =OFFSET('Tsy Recalibration'!$V$25,0,2*$L12) -> 0.042235252 | O12: =M12-N12 -> -0.00083525242 | T12: B(T) | U12: =(-2*(EXP(CIR2_Gamma*U$3)-1))/(CIR2_Gam_Kap*(EXP(CIR2_Gamma*U$3)-1)+2*CIR2_Gamma) -> -0.082634465 | V12: =(-2*(EXP(CIR2_Gamma*V$3)-1))/(CIR2_Gam_Kap*(EXP(CIR2_Gamma*V$3)-1)+2*CIR2_Gamma) -> -0.24377469 | W12: =(-2*(EXP(CIR2_Gamma*W$3)-1))/(CIR2_Gam_Kap*(EXP(CIR2_Gamma*W$3)-1)+2*CIR2_Gamma) -> -0.47547979 | X12: =(-2*(EXP(CIR2_Gamma*X$3)-1))/(CIR2_Gam_Kap*(EXP(CIR2_Gamma*X$3)-1)+2*CIR2_Gamma) -> -0.90488136 | Y12: =(-2*(EXP(CIR2_Gamma*Y$3)-1))/(CIR2_Gam_Kap*(EXP(CIR2_Gamma*Y$3)-1)+2*CIR2_Gamma) -> -1.2923943 | Z12: =(-2*(EXP(CIR2_Gamma*Z$3)-1))/(CIR2_Gam_Kap*(EXP(CIR2_Gamma*Z$3)-1)+2*CIR2_Gamma) -> -1.6418804 | AA12: =(-2*(EXP(CIR2_Gamma*AA$3)-1))/(CIR2_Gam_Kap*(EXP(CIR2_Gamma*AA$3)-1)+2*CIR2_Gamma) -> -1.9568888 | AB12: =(-2*(EXP(CIR2_Gamma*AB$3)-1))/(CIR2_Gam_Kap*(EXP(CIR2_Gamma*AB$3)-1)+2*CIR2_Gamma) -> -2.2406726 | ... CD12: =(-2*(EXP(CIR2_Gamma*CD$3)-1))/(CIR2_Gam_Kap*(EXP(CIR2_Gamma*CD$3)-1)+2*CIR2_Gamma) -> -4.7505679
A13: 0.083333333 | B13: =2*Shift+2*(C13*A13-C12*A12)/(A13-A12)-B12 -> -0.13155245 | C13: {='Tsy Recalibration'!AC45:AC106-TRANSPOSE('Tsy Recalibration'!$U$23:$CD$23)} -> -0.0019681569 | E13: 5 | F13: =VLOOKUP(E13,'Tsy Recalibration'!$X$45:$AC$106,6) -> 0.039914802 | L13: 10 | M13: 0.0424 | N13: =OFFSET('Tsy Recalibration'!$V$25,0,2*$L13) -> 0.043427907 | O13: =M13-N13 -> -0.001027907 | T13: A(T) * -1/t | U13: =U11*-1/U$3 -> 0.00064221785 | V13: =V11*-1/V$3 -> 0.0019052112 | W13: =W11*-1/W$3 -> 0.0037473298 | X13: =X11*-1/X$3 -> 0.0072509307 | Y13: =Y11*-1/Y$3 -> 0.010527428 | Z13: =Z11*-1/Z$3 -> 0.013592417 | AA13: =AA11*-1/AA$3 -> 0.016460498 | AB13: =AB11*-1/AB$3 -> 0.019145323 | ... CD13: =CD11*-1/CD$3 -> 0.06227958
A14: 0.25 | B14: =2*Shift+2*(C14*A14-C13*A13)/(A14-A13)-B13 -> -0.11719492 | C14: 0.0015055836 | E14: 30 | F14: =VLOOKUP(E14,'Tsy Recalibration'!$X$45:$AC$106,6) -> 0.045104621 | L14: 20 | M14: 0.0455 | N14: =OFFSET('Tsy Recalibration'!$V$25,0,2*$L14) -> 0.045000591 | O14: =M14-N14 -> 0.00049940902 | T14: B(T) * -1/t | U14: =U12*-1/U$3 -> 0.99161358 | V14: =V12*-1/V$3 -> 0.97509877 | W14: =W12*-1/W$3 -> 0.95095958 | X14: =X12*-1/X$3 -> 0.90488136 | Y14: =Y12*-1/Y$3 -> 0.86159619 | Z14: =Z12*-1/Z$3 -> 0.82094019 | AA14: =AA12*-1/AA$3 -> 0.78275551 | AB14: =AB12*-1/AB$3 -> 0.74689087 | ... CD14: =CD12*-1/CD$3 -> 0.15835226
A15: 0.5 | B15: =2*Shift+2*(C15*A15-C14*A14)/(A15-A14)-B14 -> -0.12906416 | C15: 0.0029960931 | L15: 30 | M15: 0.0451 | N15: =OFFSET('Tsy Recalibration'!$V$25,0,2*$L15) -> 0.044842993 | O15: =M15-N15 -> 0.00025700654 | T15: CIR 3
A16: 1 | B16: =2*Shift+2*(C16*A16-C15*A15)/(A16-A15)-B15 -> -0.12396632 | C16: 0.0020484978 | M16: Input | T16: A(T) | U16: =(2*CIR3_Theta/CIR3_Sigma^2)*LN(2*CIR3_Gamma*EXP(CIR3_Gam_Kap*U$3/2)/(CIR3_Gam_Kap*(EXP(CIR3_Gamma*U$3)-1)+2*CIR3_Gamma)) -> -4.3992975e-06 | V16: =(2*CIR3_Theta/CIR3_Sigma^2)*LN(2*CIR3_Gamma*EXP(CIR3_Gam_Kap*V$3/2)/(CIR3_Gam_Kap*(EXP(CIR3_Gamma*V$3)-1)+2*CIR3_Gamma)) -> -3.9593209e-05 | W16: =(2*CIR3_Theta/CIR3_Sigma^2)*LN(2*CIR3_Gamma*EXP(CIR3_Gam_Kap*W$3/2)/(CIR3_Gam_Kap*(EXP(CIR3_Gamma*W$3)-1)+2*CIR3_Gamma)) -> -0.00015836679 | X16: =(2*CIR3_Theta/CIR3_Sigma^2)*LN(2*CIR3_Gamma*EXP(CIR3_Gam_Kap*X$3/2)/(CIR3_Gam_Kap*(EXP(CIR3_Gamma*X$3)-1)+2*CIR3_Gamma)) -> -0.00063337225 | Y16: =(2*CIR3_Theta/CIR3_Sigma^2)*LN(2*CIR3_Gamma*EXP(CIR3_Gam_Kap*Y$3/2)/(CIR3_Gam_Kap*(EXP(CIR3_Gamma*Y$3)-1)+2*CIR3_Gamma)) -> -0.0014247346 | Z16: =(2*CIR3_Theta/CIR3_Sigma^2)*LN(2*CIR3_Gamma*EXP(CIR3_Gam_Kap*Z$3/2)/(CIR3_Gam_Kap*(EXP(CIR3_Gamma*Z$3)-1)+2*CIR3_Gamma)) -> -0.0025319866 | AA16: =(2*CIR3_Theta/CIR3_Sigma^2)*LN(2*CIR3_Gamma*EXP(CIR3_Gam_Kap*AA$3/2)/(CIR3_Gam_Kap*(EXP(CIR3_Gamma*AA$3)-1)+2*CIR3_Gamma)) -> -0.003954477 | AB16: =(2*CIR3_Theta/CIR3_Sigma^2)*LN(2*CIR3_Gamma*EXP(CIR3_Gam_Kap*AB$3/2)/(CIR3_Gam_Kap*(EXP(CIR3_Gamma*AB$3)-1)+2*CIR3_Gamma)) -> -0.0056913716 | ... CD16: =(2*CIR3_Theta/CIR3_Sigma^2)*LN(2*CIR3_Gamma*EXP(CIR3_Gam_Kap*CD$3/2)/(CIR3_Gam_Kap*(EXP(CIR3_Gamma*CD$3)-1)+2*CIR3_Gamma)) -> -0.49106624
A17: 1.5 | B17: =2*Shift+2*(C17*A17-C16*A16)/(A17-A16)-B16 -> -0.13049172 | C17: 0.0014947049 | T17: B(T) | U17: =(-2*(EXP(CIR3_Gamma*U$3)-1))/(CIR3_Gam_Kap*(EXP(CIR3_Gamma*U$3)-1)+2*CIR3_Gamma) -> -0.083333047 | V17: =(-2*(EXP(CIR3_Gamma*V$3)-1))/(CIR3_Gam_Kap*(EXP(CIR3_Gamma*V$3)-1)+2*CIR3_Gamma) -> -0.24999334 | W17: =(-2*(EXP(CIR3_Gamma*W$3)-1))/(CIR3_Gam_Kap*(EXP(CIR3_Gamma*W$3)-1)+2*CIR3_Gamma) -> -0.49994887 | X17: =(-2*(EXP(CIR3_Gamma*X$3)-1))/(CIR3_Gam_Kap*(EXP(CIR3_Gamma*X$3)-1)+2*CIR3_Gamma) -> -0.99959958 | Y17: =(-2*(EXP(CIR3_Gamma*Y$3)-1))/(CIR3_Gam_Kap*(EXP(CIR3_Gamma*Y$3)-1)+2*CIR3_Gamma) -> -1.4986589 | Z17: =(-2*(EXP(CIR3_Gamma*Z$3)-1))/(CIR3_Gam_Kap*(EXP(CIR3_Gamma*Z$3)-1)+2*CIR3_Gamma) -> -1.9968351 | AA17: =(-2*(EXP(CIR3_Gamma*AA$3)-1))/(CIR3_Gam_Kap*(EXP(CIR3_Gamma*AA$3)-1)+2*CIR3_Gamma) -> -2.4938384 | AB17: =(-2*(EXP(CIR3_Gamma*AB$3)-1))/(CIR3_Gam_Kap*(EXP(CIR3_Gamma*AB$3)-1)+2*CIR3_Gamma) -> -2.9893818 | ... CD17: =(-2*(EXP(CIR3_Gamma*CD$3)-1))/(CIR3_Gam_Kap*(EXP(CIR3_Gamma*CD$3)-1)+2*CIR3_Gamma) -> -22.547664
A18: 2 | B18: =2*Shift+2*(C18*A18-C17*A17)/(A18-A17)-B17 -> -0.12773142 | C18: 0.0007471713 | T18: A(T) * -1/t | U18: =U16*-1/U$3 -> 5.279157e-05 | V18: =V16*-1/V$3 -> 0.00015837284 | W18: =W16*-1/W$3 -> 0.00031673358 | X18: =X16*-1/X$3 -> 0.00063337225 | Y18: =Y16*-1/Y$3 -> 0.00094982305 | Z18: =Z16*-1/Z$3 -> 0.0012659933 | AA18: =AA16*-1/AA$3 -> 0.0015817908 | AB18: =AB16*-1/AB$3 -> 0.0018971239 | ... CD18: =CD16*-1/CD$3 -> 0.016368875
A19: 2.5 | B19: =2*Shift+2*(C19*A19-C18*A18)/(A19-A18)-B18 -> -0.12949492 | C19: 0.00039833162 | T19: B(T) * -1/t | U19: =U17*-1/U$3 -> 0.99999657 | V19: =V17*-1/V$3 -> 0.99997337 | W19: =W17*-1/W$3 -> 0.99989774 | X19: =X17*-1/X$3 -> 0.99959958 | Y19: =Y17*-1/Y$3 -> 0.99910597 | Z19: =Z17*-1/Z$3 -> 0.99841757 | AA19: =AA17*-1/AA$3 -> 0.99753537 | AB19: =AB17*-1/AB$3 -> 0.9964606 | ... CD19: =CD17*-1/CD$3 -> 0.7515888
A20: 3 | B20: =2*Shift+2*(C20*A20-C19*A19)/(A20-A19)-B19 -> -0.12931782 | C20: 3.3571365e-05
A21: 3.5 | B21: =2*Shift+2*(C21*A21-C20*A20)/(A21-A20)-B20 -> -0.12947401 | C21: -0.00022547821 | T21: Long Term Yield
A22: 4 | B22: =2*Shift+2*(C22*A22-C21*A21)/(A22-A21)-B21 -> -0.13019791 | C22: -0.00047477106 | T22: Fixed | U22: =Shift+U8+U13+U18 -> -0.11170358 | V22: =Shift+V8+V13+V18 -> -0.095377896 | W22: =Shift+W8+W13+W18 -> -0.085146553 | X22: =Shift+X8+X13+X18 -> -0.076462522 | Y22: =Shift+Y8+Y13+Y18 -> -0.071223697 | Z22: =Shift+Z8+Z13+Z18 -> -0.067019459 | AA22: =Shift+AA8+AA13+AA18 -> -0.063341732 | AB22: =Shift+AB8+AB13+AB18 -> -0.060012342 | ... CD22: =Shift+CD8+CD13+CD18 -> -0.00092478982
A23: 4.5 | B23: =2*Shift+2*(C23*A23-C22*A22)/(A23-A22)-B22 -> -0.13022827 | C23: -0.00071056875 | T23: Spot | U23: =Shift+SUM(U8,U13,U18)+SUM(U9*$U$37,U14*$U$36,U19*$U$35) -> 0.044906222 | V23: =Shift+SUM(V8,V13,V18)+SUM(V9*$U$37,V14*$U$36,V19*$U$35) -> 0.041006133 | W23: =Shift+SUM(W8,W13,W18)+SUM(W9*$U$37,W14*$U$36,W19*$U$35) -> 0.039058641 | X23: =Shift+SUM(X8,X13,X18)+SUM(X9*$U$37,X14*$U$36,X19*$U$35) -> 0.038323938 | Y23: =Shift+SUM(Y8,Y13,Y18)+SUM(Y9*$U$37,Y14*$U$36,Y19*$U$35) -> 0.038433512 | Z23: =Shift+SUM(Z8,Z13,Z18)+SUM(Z9*$U$37,Z14*$U$36,Z19*$U$35) -> 0.038731737 | AA23: =Shift+SUM(AA8,AA13,AA18)+SUM(AA9*$U$37,AA14*$U$36,AA19*$U$35) -> 0.039086238 | AB23: =Shift+SUM(AB8,AB13,AB18)+SUM(AB9*$U$37,AB14*$U$36,AB19*$U$35) -> 0.039454772 | ... CD23: =Shift+SUM(CD8,CD13,CD18)+SUM(CD9*$U$37,CD14*$U$36,CD19*$U$35) -> 0.044586171
A24: 5 | B24: =2*Shift+2*(C24*A24-C23*A23)/(A24-A23)-B23 -> -0.1308373 | C24: -0.00093117637 | T24: Sum of Discount | W24: =EXP(-W23*W3) -> 0.98066014 | X24: =EXP(-X23*X3)+W24 -> 1.9430613 | Y24: =EXP(-Y23*Y3)+X24 -> 2.8870413 | Z24: =EXP(-Z23*Z3)+Y24 -> 3.8125021 | AA24: =EXP(-AA23*AA3)+Z24 -> 4.7194089 | AB24: =EXP(-AB23*AB3)+AA24 -> 5.6077813 | AC24: =EXP(-AC23*AC3)+AB24 -> 6.4776856 | AD24: =EXP(-AD23*AD3)+AC24 -> 7.3292285 | AE24: =EXP(-AE23*AE3)+AD24 -> 8.1625517 | ... CD24: =EXP(-CD23*CD3)+CC24 -> 32.893488
A25: 5.5 | B25: =2*Shift+2*(C25*A25-C24*A24)/(A25-A24)-B24 -> -0.12657832 | C25: -0.00094576684 | T25: Par Yield | U25: =(EXP(U23/12)-1)/(0.5-5/12*EXP(U23/12)) -> 0.045849851 | V25: =(EXP(V23/4)-1)/(0.5-EXP(V23/4)/4) -> 0.041646174 | W25: =2*(1-EXP(-W23*W3))/W24 -> 0.039442531 | X25: =2*(1-EXP(-X23*X3))/X24 -> 0.038700651 | Y25: =2*(1-EXP(-Y23*Y3))/Y24 -> 0.038807876 | Z25: =2*(1-EXP(-Z23*Z3))/Z24 -> 0.039102495 | AA25: =2*(1-EXP(-AA23*AA3))/AA24 -> 0.039451213 | AB25: =2*(1-EXP(-AB23*AB3))/AB24 -> 0.0398117 | AC25: =2*(1-EXP(-AC23*AC3))/AC24 -> 0.040167344 | AD25: =2*(1-EXP(-AD23*AD3))/AD24 -> 0.040510959 | ... CD25: =2*(1-EXP(-CD23*CD3))/CD24 -> 0.044842993
A26: 6 | B26: =2*Shift+2*(C26*A26-C25*A25)/(A26-A25)-B25 -> -0.13049311 | C26: -0.00094358421
A27: 6.5 | B27: =2*Shift+2*(C27*A27-C26*A26)/(A27-A26)-B26 -> -0.12613117 | C27: -0.00092453926 | T27: Targets | U27: {=TRANSPOSE('Tsy Recalibration'!AC45:AC106)-U22:CD22} -> 0.15464164 | V27: 0.13788961 | W27: 0.12720129 | X27: 0.11683496 | Y27: 0.11115191 | Z27: 0.10649837 | AA27: 0.1028263 | AB27: 0.099500685 | AC27: 0.096543207 | AD27: 0.093803468 | AE27: 0.09125127 | AF27: 0.088864881 | AG27: 0.086817654 | AH27: 0.084906541 | AI27: 0.083120258 | AJ27: 0.081449031 | AK27: 0.079760615 | AL27: 0.078170311 | AM27: 0.076671061 | AN27: 0.075256489 | AO27: 0.073920804 | AP27: 0.072658732 | AQ27: 0.071451113 | AR27: 0.070307787 | AS27: 0.069224689 | AT27: 0.068198085 | AU27: 0.067224542 | AV27: 0.066300898 | AW27: 0.065424243 | AX27: 0.064591893 | AY27: 0.063801376 | AZ27: 0.06305041 | BA27: 0.062336888 | BB27: 0.061658869 | BC27: 0.061014558 | BD27: 0.060402301 | BE27: 0.059820571 | BF27: 0.059267957 | BG27: 0.05874316 | BH27: 0.058244981 | BI27: 0.057772315 | BJ27: 0.057324147 | BK27: 0.056609677 | BL27: 0.055915779 | BM27: 0.055241415 | BN27: 0.054585619 | BO27: 0.053947488 | BP27: 0.053326178 | BQ27: 0.052720902 | BR27: 0.05213092 | BS27: 0.051555542 | BT27: 0.050994117 | BU27: 0.050446036 | BV27: 0.049910727 | BW27: 0.04938765 | BX27: 0.048876298 | BY27: 0.048376192 | BZ27: 0.047886882 | CA27: 0.047407941 | CB27: 0.046938966 | CC27: 0.046479576 | CD27: 0.04602941
A28: 7 | B28: =2*Shift+2*(C28*A28-C27*A27)/(A28-A27)-B27 -> -0.12994797 | C28: -0.0008887459
A29: 7.5 | B29: =2*Shift+2*(C29*A29-C28*A28)/(A29-A28)-B28 -> -0.12920126 | C29: -0.00096006131 | T29: X's
A30: 8 | B30: =2*Shift+2*(C30*A30-C29*A29)/(A30-A29)-B29 -> -0.12973441 | C30: -0.0010157885 | T30: State 1 | U30: {=U9:CD9} -> 0.6843329 | V30: 0.37406782 | W30: 0.20332939 | X30: 0.10243642 | Y30: 0.06829485 | Z30: 0.05122116 | AA30: 0.040976928 | AB30: 0.03414744 | AC30: 0.029269234 | AD30: 0.02561058 | AE30: 0.02276496 | AF30: 0.020488464 | AG30: 0.018625876 | AH30: 0.01707372 | AI30: 0.015760357 | AJ30: 0.014634617 | AK30: 0.013658976 | AL30: 0.01280529 | AM30: 0.012052038 | AN30: 0.01138248 | AO30: 0.010783402 | AP30: 0.010244232 | AQ30: 0.0097564115 | AR30: 0.0093129382 | AS30: 0.0089080278 | AT30: 0.00853686 | AU30: 0.0081953856 | AV30: 0.0078801785 | AW30: 0.00758832 | AX30: 0.0073173086 | AY30: 0.0070649876 | AZ30: 0.006829488 | BA30: 0.006609182 | BB30: 0.006402645 | BC30: 0.0062086255 | BD30: 0.0060260188 | BE30: 0.0058538469 | BF30: 0.00569124 | BG30: 0.0055374227 | BH30: 0.0053917011 | BI30: 0.0052534523 | BJ30: 0.005122116 | BK30: 0.0049971864 | BL30: 0.0048782057 | BM30: 0.0047647591 | BN30: 0.0046564691 | BO30: 0.004552992 | BP30: 0.0044540139 | BQ30: 0.0043592477 | BR30: 0.00426843 | BS30: 0.0041813192 | BT30: 0.0040976928 | BU30: 0.0040173459 | BV30: 0.0039400892 | BW30: 0.0038657479 | BX30: 0.00379416 | BY30: 0.0037251753 | BZ30: 0.0036586543 | CA30: 0.0035944674 | CB30: 0.0035324938 | CC30: 0.003472621 | CD30: 0.003414744
A31: 8.5 | B31: =2*Shift+2*(C31*A31-C30*A30)/(A31-A30)-B30 -> -0.12890984 | C31: -0.0010563881 | T31: State 2 | U31: {=U14:CD14} -> 0.99161358 | V31: 0.97509877 | W31: 0.95095958 | X31: 0.90488136 | Y31: 0.86159619 | Z31: 0.82094019 | AA31: 0.78275551 | AB31: 0.74689087 | AC31: 0.71320192 | AD31: 0.68155148 | AE31: 0.65180953 | AF31: 0.62385327 | AG31: 0.5975669 | AH31: 0.57284156 | AI31: 0.54957501 | AJ31: 0.52767141 | AK31: 0.50704107 | AL31: 0.4876001 | AM31: 0.46927016 | AN31: 0.45197811 | AO31: 0.43565576 | AP31: 0.42023953 | AQ31: 0.40567021 | AR31: 0.39189263 | AS31: 0.37885544 | AT31: 0.36651084 | AU31: 0.35481436 | AV31: 0.34372458 | AW31: 0.333203 | AX31: 0.32321375 | AY31: 0.31372347 | AZ31: 0.30470113 | BA31: 0.29611779 | BB31: 0.28794656 | BC31: 0.28016237 | BD31: 0.27274187 | BE31: 0.2656633 | BF31: 0.25890639 | BG31: 0.25245222 | BH31: 0.24628318 | BI31: 0.2403828 | BJ31: 0.23473573 | BK31: 0.22932763 | BL31: 0.2241451 | BM31: 0.21917562 | BN31: 0.2144075 | BO31: 0.20982978 | BP31: 0.20543221 | BQ31: 0.20120521 | BR31: 0.19713979 | BS31: 0.19322752 | BT31: 0.18946051 | BU31: 0.18583135 | BV31: 0.18233309 | BW31: 0.1789592 | BX31: 0.17570354 | BY31: 0.17256034 | BZ31: 0.16952419 | CA31: 0.16658998 | CB31: 0.16375289 | CC31: 0.16100841 | CD31: 0.15835226
A32: 9 | B32: =2*Shift+2*(C32*A32-C31*A31)/(A32-A31)-B31 -> -0.12936821 | C32: -0.0010823045 | T32: State 3 | U32: {=U19:CD19} -> 0.99999657 | V32: 0.99997337 | W32: 0.99989774 | X32: 0.99959958 | Y32: 0.99910597 | Z32: 0.99841757 | AA32: 0.99753537 | AB32: 0.9964606 | AC32: 0.99519476 | AD32: 0.9937396 | AE32: 0.99209713 | AF32: 0.99026962 | AG32: 0.98825955 | AH32: 0.98606966 | AI32: 0.98370288 | AJ32: 0.98116238 | AK32: 0.97845151 | AL32: 0.97557382 | AM32: 0.97253303 | AN32: 0.96933304 | AO32: 0.96597787 | AP32: 0.96247174 | AQ32: 0.95881895 | AR32: 0.95502393 | AS32: 0.95109123 | AT32: 0.94702547 | AU32: 0.94283137 | AV32: 0.9385137 | AW32: 0.9340773 | AX32: 0.92952704 | AY32: 0.92486783 | AZ32: 0.92010459 | BA32: 0.91524225 | BB32: 0.91028575 | BC32: 0.90524001 | BD32: 0.90010992 | BE32: 0.89490034 | BF32: 0.8896161 | BG32: 0.88426198 | BH32: 0.87884269 | BI32: 0.87336289 | BJ32: 0.86782715 | BK32: 0.86223998 | BL32: 0.85660581 | BM32: 0.85092896 | BN32: 0.84521367 | BO32: 0.83946408 | BP32: 0.83368424 | BQ32: 0.82787807 | BR32: 0.8220494 | BS32: 0.81620195 | BT32: 0.81033932 | BU32: 0.80446501 | BV32: 0.79858238 | BW32: 0.79269469 | BX32: 0.7868051 | BY32: 0.78091662 | BZ32: 0.77503216 | CA32: 0.76915453 | CB32: 0.7632864 | CC32: 0.75743034 | CD32: 0.7515888
A33: 9.5 | B33: =2*Shift+2*(C33*A33-C32*A32)/(A33-A32)-B32 -> -0.1284716 | C33: -0.0010939603
A34: 10 | B34: =2*Shift+2*(C34*A34-C33*A33)/(A34-A33)-B33 -> -0.1288604 | C34: -0.0010917551 | T34: Initial
A35: 10.5 | B35: =2*Shift+2*(C35*A35-C34*A34)/(A35-A34)-B34 -> -0.1284987 | C35: -0.0010904053 | S35: =IF(MIN(U35:U37)>0,"No Negative State Variables!","Negative") -> No Negative State Variables! | T35: State 3 | U35: {=TRANSPOSE(LINEST(_xlfn.ANCHORARRAY(U27),U30:CD32,FALSE))} -> 0.045634853
A36: 11 | B36: =2*Shift+2*(C36*A36-C35*A35)/(A36-A35)-B35 -> -0.12828094 | C36: -0.0010760089 | T36: State 2 | U36: 0.069480242
A37: 11.5 | B37: =2*Shift+2*(C37*A37-C36*A36)/(A37-A36)-B36 -> -0.12785702 | C37: -0.0010489147 | T37: State 1 | U37: 0.061486959
A38: 12 | B38: =2*Shift+2*(C38*A38-C37*A37)/(A38-A37)-B37 -> -0.12757882 | C38: -0.0010094509 | U38: 0
A39: 12.5 | B39: =2*Shift+2*(C39*A39-C38*A38)/(A39-A38)-B38 -> -0.12709614 | C39: -0.00095792648
A40: 13 | B40: =2*Shift+2*(C40*A40-C39*A39)/(A40-A39)-B39 -> -0.12676073 | C40: -0.00089463287
...
