Workbook
Name CIR1_Gam_Kap: 'Tsy Recalibration'!$F$4
Name CIR1_Gamma: 'Tsy Recalibration'!$E$4
Name CIR1_Kappa: 'Tsy Recalibration'!$C$4
Name CIR1_Sigma: 'Tsy Recalibration'!$D$4
Name CIR1_Theta: 'Tsy Recalibration'!$B$4
Name CIR2_Gam_Kap: 'Tsy Recalibration'!$F$5
Name CIR2_Gamma: 'Tsy Recalibration'!$E$5
Name CIR2_Kappa: 'Tsy Recalibration'!$C$5
Name CIR2_Sigma: 'Tsy Recalibration'!$D$5
Name CIR2_Theta: 'Tsy Recalibration'!$B$5
Name CIR3_Gam_Kap: 'Tsy Recalibration'!$F$6
Name CIR3_Gamma: 'Tsy Recalibration'!$E$6
Name CIR3_Kappa: 'Tsy Recalibration'!$C$6
Name CIR3_Sigma: 'Tsy Recalibration'!$D$6
Name CIR3_Theta: 'Tsy Recalibration'!$B$6
Name DisplayStateVariables: 'Tsy Recalibration'!$L$1
Name Shift: 'Tsy Recalibration'!$B$9
Name StateVar1: 'Tsy Recalibration'!$U$35
Name StateVar2: 'Tsy Recalibration'!$U$36
Name StateVar3: 'Tsy Recalibration'!$U$37
Name StateVariable1: 'Tsy Recalibration'!$F$12
Name StateVariable2: 'Tsy Recalibration'!$F$13
Name StateVariable3: 'Tsy Recalibration'!$F$14
Name TsyRecalChartTitle: 'Tsy Recalibration'!$B$1

Sheet Tsy Recalibration
A1: Chart Title | B1: Treasury Fitting Results for GEMS-NAIC Calibration at 02/28/2025 | I1: Chart Text Box - State Variables | L1: ="State Variables"&CHAR(10)&TEXT(ROUND(U37,6),"0.0000%")&" x1"&CHAR(10)&TEXT(ROUND(U36,6),"0.0000%")&" x2 "&CHAR(10)&TEXT(ROUND(U35,6),"0.0000%")&" x3" -> State Variables 6.1487% x1 6.9480% x2 4.5635% x3
A2: Model Parameters | B2: These will not change from month to month for NAIC | L2: Treasury Model Calibration Results | T2: Auxiliary Functions
A3: CIR Process | B3: Theta | C3: Kappa | D3: Sigma | E3: Gamma | F3: Gamma + Kappa | M3: Coupon Curve | T3: Maturity (Years) | U3: =1/12 -> 0.083333333 | V3: 0.25 | W3: 0.5 | X3: =W3+0.5 -> 1 | Y3: =X3+0.5 -> 1.5 | Z3: =Y3+0.5 -> 2 | AA3: =Z3+0.5 -> 2.5 | AB3: =AA3+0.5 -> 3 | AC3: =AB3+0.5 -> 3.5 | AD3: =AC3+0.5 -> 4 | AE3: =AD3+0.5 -> 4.5 | ... CD3: =CC3+0.5 -> 30
A4: CIR 1 | B4: 0.470582 | C4: 9.761558 | D4: 0.025265 | E4: =SQRT(CIR1_Kappa^2+2*CIR1_Sigma^2) -> 9.7616234 | F4: =CIR1_Kappa+CIR1_Gamma -> 19.523181 | M4: Actual | N4: Fitted | O4: Difference
A5: CIR 2 | B5: 0.0155 | C5: 0.202316 | D5: 0.057519 | E5: =SQRT(CIR2_Kappa^2+2*CIR2_Sigma^2) -> 0.21805649 | F5: =CIR2_Kappa+CIR2_Gamma -> 0.42037249 | L5: =1/12 -> 0.083333333 | M5: 0.0438 | N5: ='Tsy Recalibration'!$U$25 -> 0.045849851 | O5: =M5-N5 -> -0.0020498509 | T5: CIR 1
A6: CIR 3 | B6: 0.001267 | C6: 1.7e-05 | D6: 0.048504 | E6: =SQRT(CIR3_Kappa^2+2*CIR3_Sigma^2) -> 0.068595017 | F6: =CIR3_Kappa+CIR3_Gamma -> 0.068612017 | L6: 0.25 | M6: 0.0432 | N6: ='Tsy Recalibration'!$V$25 -> 0.041646174 | O6: =M6-N6 -> 0.0015538258 | T6: A(T) | U6: =(2*CIR1_Theta/CIR1_Sigma^2)*LN(2*CIR1_Gamma*EXP(CIR1_Gam_Kap*U$3/2)/(CIR1_Gam_Kap*(EXP(CIR1_Gamma*U$3)-1)+2*CIR1_Gamma)) -> -0.0012681297 | V6: =(2*CIR1_Theta/CIR1_Sigma^2)*LN(2*CIR1_Gamma*EXP(CIR1_Gam_Kap*V$3/2)/(CIR1_Gam_Kap*(EXP(CIR1_Gamma*V$3)-1)+2*CIR1_Gamma)) -> -0.0075436651 | W6: =(2*CIR1_Theta/CIR1_Sigma^2)*LN(2*CIR1_Gamma*EXP(CIR1_Gam_Kap*W$3/2)/(CIR1_Gam_Kap*(EXP(CIR1_Gamma*W$3)-1)+2*CIR1_Gamma)) -> -0.019202762 | X6: =(2*CIR1_Theta/CIR1_Sigma^2)*LN(2*CIR1_Gamma*EXP(CIR1_Gam_Kap*X$3/2)/(CIR1_Gam_Kap*(EXP(CIR1_Gamma*X$3)-1)+2*CIR1_Gamma)) -> -0.043269315 | Y6: =(2*CIR1_Theta/CIR1_Sigma^2)*LN(2*CIR1_Gamma*EXP(CIR1_Gam_Kap*Y$3/2)/(CIR1_Gam_Kap*(EXP(CIR1_Gamma*Y$3)-1)+2*CIR1_Gamma)) -> -0.067372789 | Z6: =(2*CIR1_Theta/CIR1_Sigma^2)*LN(2*CIR1_Gamma*EXP(CIR1_Gam_Kap*Z$3/2)/(CIR1_Gam_Kap*(EXP(CIR1_Gamma*Z$3)-1)+2*CIR1_Gamma)) -> -0.091476543 | AA6: =(2*CIR1_Theta/CIR1_Sigma^2)*LN(2*CIR1_Gamma*EXP(CIR1_Gam_Kap*AA$3/2)/(CIR1_Gam_Kap*(EXP(CIR1_Gamma*AA$3)-1)+2*CIR1_Gamma)) -> -0.1155803 | AB6: =(2*CIR1_Theta/CIR1_Sigma^2)*LN(2*CIR1_Gamma*EXP(CIR1_Gam_Kap*AB$3/2)/(CIR1_Gam_Kap*(EXP(CIR1_Gamma*AB$3)-1)+2*CIR1_Gamma)) -> -0.13968405 | ... CD6: =(2*CIR1_Theta/CIR1_Sigma^2)*LN(2*CIR1_Gamma*EXP(CIR1_Gam_Kap*CD$3/2)/(CIR1_Gam_Kap*(EXP(CIR1_Gamma*CD$3)-1)+2*CIR1_Gamma)) -> -1.4412869
L7: 0.5 | M7: 0.0425 | N7: =OFFSET('Tsy Recalibration'!$V$25,0,2*$L7) -> 0.039442531 | O7: =M7-N7 -> 0.0030574694 | T7: B(T) | U7: =(-2*(EXP(CIR1_Gamma*U$3)-1))/(CIR1_Gam_Kap*(EXP(CIR1_Gamma*U$3)-1)+2*CIR1_Gamma) -> -0.057027742 | V7: =(-2*(EXP(CIR1_Gamma*V$3)-1))/(CIR1_Gam_Kap*(EXP(CIR1_Gamma*V$3)-1)+2*CIR1_Gamma) -> -0.093516956 | W7: =(-2*(EXP(CIR1_Gamma*W$3)-1))/(CIR1_Gam_Kap*(EXP(CIR1_Gamma*W$3)-1)+2*CIR1_Gamma) -> -0.10166469 | X7: =(-2*(EXP(CIR1_Gamma*X$3)-1))/(CIR1_Gam_Kap*(EXP(CIR1_Gamma*X$3)-1)+2*CIR1_Gamma) -> -0.10243642 | Y7: =(-2*(EXP(CIR1_Gamma*Y$3)-1))/(CIR1_Gam_Kap*(EXP(CIR1_Gamma*Y$3)-1)+2*CIR1_Gamma) -> -0.10244228 | Z7: =(-2*(EXP(CIR1_Gamma*Z$3)-1))/(CIR1_Gam_Kap*(EXP(CIR1_Gamma*Z$3)-1)+2*CIR1_Gamma) -> -0.10244232 | AA7: =(-2*(EXP(CIR1_Gamma*AA$3)-1))/(CIR1_Gam_Kap*(EXP(CIR1_Gamma*AA$3)-1)+2*CIR1_Gamma) -> -0.10244232 | AB7: =(-2*(EXP(CIR1_Gamma*AB$3)-1))/(CIR1_Gam_Kap*(EXP(CIR1_Gamma*AB$3)-1)+2*CIR1_Gamma) -> -0.10244232 | ... CD7: =(-2*(EXP(CIR1_Gamma*CD$3)-1))/(CIR1_Gam_Kap*(EXP(CIR1_Gamma*CD$3)-1)+2*CIR1_Gamma) -> -0.10244232
A8: Time | B8: Shift Function | L8: 1 | M8: 0.0408 | N8: =OFFSET('Tsy Recalibration'!$V$25,0,2*$L8) -> 0.038700651 | O8: =M8-N8 -> 0.0020993495 | T8: A(T) * -1/t | U8: =U6*-1/U$3 -> 0.015217556 | V8: =V6*-1/V$3 -> 0.03017466 | W8: =W6*-1/W$3 -> 0.038405524 | X8: =X6*-1/X$3 -> 0.043269315 | Y8: =Y6*-1/Y$3 -> 0.044915193 | Z8: =Z6*-1/Z$3 -> 0.045738271 | AA8: =AA6*-1/AA$3 -> 0.046232119 | AB8: =AB6*-1/AB$3 -> 0.046561352 | ... CD8: =CD6*-1/CD$3 -> 0.048042896
A9: 0 | B9: -0.12761614 | L9: 2 | M9: 0.0399 | N9: =OFFSET('Tsy Recalibration'!$V$25,0,2*$L9) -> 0.039102495 | O9: =M9-N9 -> 0.00079750509 | T9: B(T) * -1/t | U9: =U7*-1/U$3 -> 0.6843329 | V9: =V7*-1/V$3 -> 0.37406782 | W9: =W7*-1/W$3 -> 0.20332939 | X9: =X7*-1/X$3 -> 0.10243642 | Y9: =Y7*-1/Y$3 -> 0.06829485 | Z9: =Z7*-1/Z$3 -> 0.05122116 | AA9: =AA7*-1/AA$3 -> 0.040976928 | AB9: =AB7*-1/AB$3 -> 0.03414744 | ... CD9: =CD7*-1/CD$3 -> 0.003414744
A10: Only these results will be batch import to the new month dfa | L10: 3 | M10: 0.0399 | N10: =OFFSET('Tsy Recalibration'!$V$25,0,2*$L10) -> 0.0398117 | O10: =M10-N10 -> 8.8299635e-05 | T10: CIR 2
A11: Time | B11: Shift Function | C11: Impact | E11: Tenor | F11: Yield | L11: 5 | M11: 0.0403 | N11: =OFFSET('Tsy Recalibration'!$V$25,0,2*$L11) -> 0.041151402 | O11: =M11-N11 -> -0.00085140212 | T11: A(T) | U11: =(2*CIR2_Theta/CIR2_Sigma^2)*LN(2*CIR2_Gamma*EXP(CIR2_Gam_Kap*U$3/2)/(CIR2_Gam_Kap*(EXP(CIR2_Gamma*U$3)-1)+2*CIR2_Gamma)) -> -5.3518154e-05 | V11: =(2*CIR2_Theta/CIR2_Sigma^2)*LN(2*CIR2_Gamma*EXP(CIR2_Gam_Kap*V$3/2)/(CIR2_Gam_Kap*(EXP(CIR2_Gamma*V$3)-1)+2*CIR2_Gamma)) -> -0.00047630281 | W11: =(2*CIR2_Theta/CIR2_Sigma^2)*LN(2*CIR2_Gamma*EXP(CIR2_Gam_Kap*W$3/2)/(CIR2_Gam_Kap*(EXP(CIR2_Gamma*W$3)-1)+2*CIR2_Gamma)) -> -0.0018736649 | X11: =(2*CIR2_Theta/CIR2_Sigma^2)*LN(2*CIR2_Gamma*EXP(CIR2_Gam_Kap*X$3/2)/(CIR2_Gam_Kap*(EXP(CIR2_Gamma*X$3)-1)+2*CIR2_Gamma)) -> -0.0072509307 | Y11: =(2*CIR2_Theta/CIR2_Sigma^2)*LN(2*CIR2_Gamma*EXP(CIR2_Gam_Kap*Y$3/2)/(CIR2_Gam_Kap*(EXP(CIR2_Gamma*Y$3)-1)+2*CIR2_Gamma)) -> -0.015791142 | Z11: =(2*CIR2_Theta/CIR2_Sigma^2)*LN(2*CIR2_Gamma*EXP(CIR2_Gam_Kap*Z$3/2)/(CIR2_Gam_Kap*(EXP(CIR2_Gamma*Z$3)-1)+2*CIR2_Gamma)) -> -0.027184833 | AA11: =(2*CIR2_Theta/CIR2_Sigma^2)*LN(2*CIR2_Gamma*EXP(CIR2_Gam_Kap*AA$3/2)/(CIR2_Gam_Kap*(EXP(CIR2_Gamma*AA$3)-1)+2*CIR2_Gamma)) -> -0.041151246 | AB11: =(2*CIR2_Theta/CIR2_Sigma^2)*LN(2*CIR2_Gamma*EXP(CIR2_Gam_Kap*AB$3/2)/(CIR2_Gam_Kap*(EXP(CIR2_Gamma*AB$3)-1)+2*CIR2_Gamma)) -> -0.05743597 | ... CD11: =(2*CIR2_Theta/CIR2_Sigma^2)*LN(2*CIR2_Gamma*EXP(CIR2_Gam_Kap*CD$3/2)/(CIR2_Gam_Kap*(EXP(CIR2_Gamma*CD$3)-1)+2*CIR2_Gamma)) -> -1.8683874
A12: 0 | B12: =Shift -> -0.12761614 | C12: 0 | E12: =1/12 -> 0.083333333 | F12: =VLOOKUP(E12,'Tsy Recalibration'!$X$45:$AC$106,6) -> 0.042938065 | L12: 7 | M12: 0.0414 | N12: =OFFSET('Tsy Recalibration'!$V$25,0,2*$L12) -> 0.042235252 | O12: =M12-N12 -> -0.00083525242 | T12: B(T) | U12: =(-2*(EXP(CIR2_Gamma*U$3)-1))/(CIR2_Gam_Kap*(EXP(CIR2_Gamma*U$3)-1)+2*CIR2_Gamma) -> -0.082634465 | V12: =(-2*(EXP(CIR2_Gamma*V$3)-1))/(CIR2_Gam_Kap*(EXP(CIR2_Gamma*V$3)-1)+2*CIR2_Gamma) -> -0.24377469 | W12: =(-2*(EXP(CIR2_Gamma*W$3)-1))/(CIR2_Gam_Kap*(EXP(CIR2_Gamma*W$3)-1)+2*CIR2_Gamma) -> -0.47547979 | X12: =(-2*(EXP(CIR2_Gamma*X$3)-1))/(CIR2_Gam_Kap*(EXP(CIR2_Gamma*X$3)-1)+2*CIR2_Gamma) -> -0.90488136 | Y12: =(-2*(EXP(CIR2_Gamma*Y$3)-1))/(CIR2_Gam_Kap*(EXP(CIR2_Gamma*Y$3)-1)+2*CIR2_Gamma) -> -1.2923943 | Z12: =(-2*(EXP(CIR2_Gamma*Z$3)-1))/(CIR2_Gam_Kap*(EXP(CIR2_Gamma*Z$3)-1)+2*CIR2_Gamma) -> -1.6418804 | AA12: =(-2*(EXP(CIR2_Gamma*AA$3)-1))/(CIR2_Gam_Kap*(EXP(CIR2_Gamma*AA$3)-1)+2*CIR2_Gamma) -> -1.9568888 | AB12: =(-2*(EXP(CIR2_Gamma*AB$3)-1))/(CIR2_Gam_Kap*(EXP(CIR2_Gamma*AB$3)-1)+2*CIR2_Gamma) -> -2.2406726 | ... CD12: =(-2*(EXP(CIR2_Gamma*CD$3)-1))/(CIR2_Gam_Kap*(EXP(CIR2_Gamma*CD$3)-1)+2*CIR2_Gamma) -> -4.7505679
A13: 0.083333333 | B13: =2*Shift+2*(C13*A13-C12*A12)/(A13-A12)-B12 -> -0.13155245 | C13: {='Tsy Recalibration'!AC45:AC106-TRANSPOSE('Tsy Recalibration'!$U$23:$CD$23)} -> -0.0019681569 | E13: 5 | F13: =VLOOKUP(E13,'Tsy Recalibration'!$X$45:$AC$106,6) -> 0.039914802 | L13: 10 | M13: 0.0424 | N13: =OFFSET('Tsy Recalibration'!$V$25,0,2*$L13) -> 0.043427907 | O13: =M13-N13 -> -0.001027907 | T13: A(T) * -1/t | U13: =U11*-1/U$3 -> 0.00064221785 | V13: =V11*-1/V$3 -> 0.0019052112 | W13: =W11*-1/W$3 -> 0.0037473298 | X13: =X11*-1/X$3 -> 0.0072509307 | Y13: =Y11*-1/Y$3 -> 0.010527428 | Z13: =Z11*-1/Z$3 -> 0.013592417 | AA13: =AA11*-1/AA$3 -> 0.016460498 | AB13: =AB11*-1/AB$3 -> 0.019145323 | ... CD13: =CD11*-1/CD$3 -> 0.06227958
A14: 0.25 | B14: =2*Shift+2*(C14*A14-C13*A13)/(A14-A13)-B13 -> -0.11719492 | C14: 0.0015055836 | E14: 30 | F14: =VLOOKUP(E14,'Tsy Recalibration'!$X$45:$AC$106,6) -> 0.045104621 | L14: 20 | M14: 0.0455 | N14: =OFFSET('Tsy Recalibration'!$V$25,0,2*$L14) -> 0.045000591 | O14: =M14-N14 -> 0.00049940902 | T14: B(T) * -1/t | U14: =U12*-1/U$3 -> 0.99161358 | V14: =V12*-1/V$3 -> 0.97509877 | W14: =W12*-1/W$3 -> 0.95095958 | X14: =X12*-1/X$3 -> 0.90488136 | Y14: =Y12*-1/Y$3 -> 0.86159619 | Z14: =Z12*-1/Z$3 -> 0.82094019 | AA14: =AA12*-1/AA$3 -> 0.78275551 | AB14: =AB12*-1/AB$3 -> 0.74689087 | ... CD14: =CD12*-1/CD$3 -> 0.15835226
A15: 0.5 | B15: =2*Shift+2*(C15*A15-C14*A14)/(A15-A14)-B14 -> -0.12906416 | C15: 0.0029960931 | L15: 30 | M15: 0.0451 | N15: =OFFSET('Tsy Recalibration'!$V$25,0,2*$L15) -> 0.044842993 | O15: =M15-N15 -> 0.00025700654 | T15: CIR 3
A16: 1 | B16: =2*Shift+2*(C16*A16-C15*A15)/(A16-A15)-B15 -> -0.12396632 | C16: 0.0020484978 | M16: Input | T16: A(T) | U16: =(2*CIR3_Theta/CIR3_Sigma^2)*LN(2*CIR3_Gamma*EXP(CIR3_Gam_Kap*U$3/2)/(CIR3_Gam_Kap*(EXP(CIR3_Gamma*U$3)-1)+2*CIR3_Gamma)) -> -4.3992975e-06 | V16: =(2*CIR3_Theta/CIR3_Sigma^2)*LN(2*CIR3_Gamma*EXP(CIR3_Gam_Kap*V$3/2)/(CIR3_Gam_Kap*(EXP(CIR3_Gamma*V$3)-1)+2*CIR3_Gamma)) -> -3.9593209e-05 | W16: =(2*CIR3_Theta/CIR3_Sigma^2)*LN(2*CIR3_Gamma*EXP(CIR3_Gam_Kap*W$3/2)/(CIR3_Gam_Kap*(EXP(CIR3_Gamma*W$3)-1)+2*CIR3_Gamma)) -> -0.00015836679 | X16: =(2*CIR3_Theta/CIR3_Sigma^2)*LN(2*CIR3_Gamma*EXP(CIR3_Gam_Kap*X$3/2)/(CIR3_Gam_Kap*(EXP(CIR3_Gamma*X$3)-1)+2*CIR3_Gamma)) -> -0.00063337225 | Y16: =(2*CIR3_Theta/CIR3_Sigma^2)*LN(2*CIR3_Gamma*EXP(CIR3_Gam_Kap*Y$3/2)/(CIR3_Gam_Kap*(EXP(CIR3_Gamma*Y$3)-1)+2*CIR3_Gamma)) -> -0.0014247346 | Z16: =(2*CIR3_Theta/CIR3_Sigma^2)*LN(2*CIR3_Gamma*EXP(CIR3_Gam_Kap*Z$3/2)/(CIR3_Gam_Kap*(EXP(CIR3_Gamma*Z$3)-1)+2*CIR3_Gamma)) -> -0.0025319866 | AA16: =(2*CIR3_Theta/CIR3_Sigma^2)*LN(2*CIR3_Gamma*EXP(CIR3_Gam_Kap*AA$3/2)/(CIR3_Gam_Kap*(EXP(CIR3_Gamma*AA$3)-1)+2*CIR3_Gamma)) -> -0.003954477 | AB16: =(2*CIR3_Theta/CIR3_Sigma^2)*LN(2*CIR3_Gamma*EXP(CIR3_Gam_Kap*AB$3/2)/(CIR3_Gam_Kap*(EXP(CIR3_Gamma*AB$3)-1)+2*CIR3_Gamma)) -> -0.0056913716 | ... CD16: =(2*CIR3_Theta/CIR3_Sigma^2)*LN(2*CIR3_Gamma*EXP(CIR3_Gam_Kap*CD$3/2)/(CIR3_Gam_Kap*(EXP(CIR3_Gamma*CD$3)-1)+2*CIR3_Gamma)) -> -0.49106624
A17: 1.5 | B17: =2*Shift+2*(C17*A17-C16*A16)/(A17-A16)-B16 -> -0.13049172 | C17: 0.0014947049 | T17: B(T) | U17: =(-2*(EXP(CIR3_Gamma*U$3)-1))/(CIR3_Gam_Kap*(EXP(CIR3_Gamma*U$3)-1)+2*CIR3_Gamma) -> -0.083333047 | V17: =(-2*(EXP(CIR3_Gamma*V$3)-1))/(CIR3_Gam_Kap*(EXP(CIR3_Gamma*V$3)-1)+2*CIR3_Gamma) -> -0.24999334 | W17: =(-2*(EXP(CIR3_Gamma*W$3)-1))/(CIR3_Gam_Kap*(EXP(CIR3_Gamma*W$3)-1)+2*CIR3_Gamma) -> -0.49994887 | X17: =(-2*(EXP(CIR3_Gamma*X$3)-1))/(CIR3_Gam_Kap*(EXP(CIR3_Gamma*X$3)-1)+2*CIR3_Gamma) -> -0.99959958 | Y17: =(-2*(EXP(CIR3_Gamma*Y$3)-1))/(CIR3_Gam_Kap*(EXP(CIR3_Gamma*Y$3)-1)+2*CIR3_Gamma) -> -1.4986589 | Z17: =(-2*(EXP(CIR3_Gamma*Z$3)-1))/(CIR3_Gam_Kap*(EXP(CIR3_Gamma*Z$3)-1)+2*CIR3_Gamma) -> -1.9968351 | AA17: =(-2*(EXP(CIR3_Gamma*AA$3)-1))/(CIR3_Gam_Kap*(EXP(CIR3_Gamma*AA$3)-1)+2*CIR3_Gamma) -> -2.4938384 | AB17: =(-2*(EXP(CIR3_Gamma*AB$3)-1))/(CIR3_Gam_Kap*(EXP(CIR3_Gamma*AB$3)-1)+2*CIR3_Gamma) -> -2.9893818 | ... CD17: =(-2*(EXP(CIR3_Gamma*CD$3)-1))/(CIR3_Gam_Kap*(EXP(CIR3_Gamma*CD$3)-1)+2*CIR3_Gamma) -> -22.547664
A18: 2 | B18: =2*Shift+2*(C18*A18-C17*A17)/(A18-A17)-B17 -> -0.12773142 | C18: 0.0007471713 | T18: A(T) * -1/t | U18: =U16*-1/U$3 -> 5.279157e-05 | V18: =V16*-1/V$3 -> 0.00015837284 | W18: =W16*-1/W$3 -> 0.00031673358 | X18: =X16*-1/X$3 -> 0.00063337225 | Y18: =Y16*-1/Y$3 -> 0.00094982305 | Z18: =Z16*-1/Z$3 -> 0.0012659933 | AA18: =AA16*-1/AA$3 -> 0.0015817908 | AB18: =AB16*-1/AB$3 -> 0.0018971239 | ... CD18: =CD16*-1/CD$3 -> 0.016368875
A19: 2.5 | B19: =2*Shift+2*(C19*A19-C18*A18)/(A19-A18)-B18 -> -0.12949492 | C19: 0.00039833162 | T19: B(T) * -1/t | U19: =U17*-1/U$3 -> 0.99999657 | V19: =V17*-1/V$3 -> 0.99997337 | W19: =W17*-1/W$3 -> 0.99989774 | X19: =X17*-1/X$3 -> 0.99959958 | Y19: =Y17*-1/Y$3 -> 0.99910597 | Z19: =Z17*-1/Z$3 -> 0.99841757 | AA19: =AA17*-1/AA$3 -> 0.99753537 | AB19: =AB17*-1/AB$3 -> 0.9964606 | ... CD19: =CD17*-1/CD$3 -> 0.7515888
A20: 3 | B20: =2*Shift+2*(C20*A20-C19*A19)/(A20-A19)-B19 -> -0.12931782 | C20: 3.3571365e-05
A21: 3.5 | B21: =2*Shift+2*(C21*A21-C20*A20)/(A21-A20)-B20 -> -0.12947401 | C21: -0.00022547821 | T21: Long Term Yield
A22: 4 | B22: =2*Shift+2*(C22*A22-C21*A21)/(A22-A21)-B21 -> -0.13019791 | C22: -0.00047477106 | T22: Fixed | U22: =Shift+U8+U13+U18 -> -0.11170358 | V22: =Shift+V8+V13+V18 -> -0.095377896 | W22: =Shift+W8+W13+W18 -> -0.085146553 | X22: =Shift+X8+X13+X18 -> -0.076462522 | Y22: =Shift+Y8+Y13+Y18 -> -0.071223697 | Z22: =Shift+Z8+Z13+Z18 -> -0.067019459 | AA22: =Shift+AA8+AA13+AA18 -> -0.063341732 | AB22: =Shift+AB8+AB13+AB18 -> -0.060012342 | ... CD22: =Shift+CD8+CD13+CD18 -> -0.00092478982
A23: 4.5 | B23: =2*Shift+2*(C23*A23-C22*A22)/(A23-A22)-B22 -> -0.13022827 | C23: -0.00071056875 | T23: Spot | U23: =Shift+SUM(U8,U13,U18)+SUM(U9*$U$37,U14*$U$36,U19*$U$35) -> 0.044906222 | V23: =Shift+SUM(V8,V13,V18)+SUM(V9*$U$37,V14*$U$36,V19*$U$35) -> 0.041006133 | W23: =Shift+SUM(W8,W13,W18)+SUM(W9*$U$37,W14*$U$36,W19*$U$35) -> 0.039058641 | X23: =Shift+SUM(X8,X13,X18)+SUM(X9*$U$37,X14*$U$36,X19*$U$35) -> 0.038323938 | Y23: =Shift+SUM(Y8,Y13,Y18)+SUM(Y9*$U$37,Y14*$U$36,Y19*$U$35) -> 0.038433512 | Z23: =Shift+SUM(Z8,Z13,Z18)+SUM(Z9*$U$37,Z14*$U$36,Z19*$U$35) -> 0.038731737 | AA23: =Shift+SUM(AA8,AA13,AA18)+SUM(AA9*$U$37,AA14*$U$36,AA19*$U$35) -> 0.039086238 | AB23: =Shift+SUM(AB8,AB13,AB18)+SUM(AB9*$U$37,AB14*$U$36,AB19*$U$35) -> 0.039454772 | ... CD23: =Shift+SUM(CD8,CD13,CD18)+SUM(CD9*$U$37,CD14*$U$36,CD19*$U$35) -> 0.044586171
A24: 5 | B24: =2*Shift+2*(C24*A24-C23*A23)/(A24-A23)-B23 -> -0.1308373 | C24: -0.00093117637 | T24: Sum of Discount | W24: =EXP(-W23*W3) -> 0.98066014 | X24: =EXP(-X23*X3)+W24 -> 1.9430613 | Y24: =EXP(-Y23*Y3)+X24 -> 2.8870413 | Z24: =EXP(-Z23*Z3)+Y24 -> 3.8125021 | AA24: =EXP(-AA23*AA3)+Z24 -> 4.7194089 | AB24: =EXP(-AB23*AB3)+AA24 -> 5.6077813 | AC24: =EXP(-AC23*AC3)+AB24 -> 6.4776856 | AD24: =EXP(-AD23*AD3)+AC24 -> 7.3292285 | AE24: =EXP(-AE23*AE3)+AD24 -> 8.1625517 | ... CD24: =EXP(-CD23*CD3)+CC24 -> 32.893488
A25: 5.5 | B25: =2*Shift+2*(C25*A25-C24*A24)/(A25-A24)-B24 -> -0.12657832 | C25: -0.00094576684 | T25: Par Yield | U25: =(EXP(U23/12)-1)/(0.5-5/12*EXP(U23/12)) -> 0.045849851 | V25: =(EXP(V23/4)-1)/(0.5-EXP(V23/4)/4) -> 0.041646174 | W25: =2*(1-EXP(-W23*W3))/W24 -> 0.039442531 | X25: =2*(1-EXP(-X23*X3))/X24 -> 0.038700651 | Y25: =2*(1-EXP(-Y23*Y3))/Y24 -> 0.038807876 | Z25: =2*(1-EXP(-Z23*Z3))/Z24 -> 0.039102495 | AA25: =2*(1-EXP(-AA23*AA3))/AA24 -> 0.039451213 | AB25: =2*(1-EXP(-AB23*AB3))/AB24 -> 0.0398117 | AC25: =2*(1-EXP(-AC23*AC3))/AC24 -> 0.040167344 | AD25: =2*(1-EXP(-AD23*AD3))/AD24 -> 0.040510959 | ... CD25: =2*(1-EXP(-CD23*CD3))/CD24 -> 0.044842993
A26: 6 | B26: =2*Shift+2*(C26*A26-C25*A25)/(A26-A25)-B25 -> -0.13049311 | C26: -0.00094358421
A27: 6.5 | B27: =2*Shift+2*(C27*A27-C26*A26)/(A27-A26)-B26 -> -0.12613117 | C27: -0.00092453926 | T27: Targets | U27: {=TRANSPOSE('Tsy Recalibration'!AC45:AC106)-U22:CD22} -> 0.15464164 | V27: 0.13788961 | W27: 0.12720129 | X27: 0.11683496 | Y27: 0.11115191 | Z27: 0.10649837 | AA27: 0.1028263 | AB27: 0.099500685 | AC27: 0.096543207 | AD27: 0.093803468 | AE27: 0.09125127 | AF27: 0.088864881 | AG27: 0.086817654 | AH27: 0.084906541 | AI27: 0.083120258 | AJ27: 0.081449031 | AK27: 0.079760615 | AL27: 0.078170311 | AM27: 0.076671061 | AN27: 0.075256489 | AO27: 0.073920804 | AP27: 0.072658732 | AQ27: 0.071451113 | AR27: 0.070307787 | AS27: 0.069224689 | AT27: 0.068198085 | AU27: 0.067224542 | AV27: 0.066300898 | AW27: 0.065424243 | AX27: 0.064591893 | AY27: 0.063801376 | AZ27: 0.06305041 | BA27: 0.062336888 | BB27: 0.061658869 | BC27: 0.061014558 | BD27: 0.060402301 | BE27: 0.059820571 | BF27: 0.059267957 | BG27: 0.05874316 | BH27: 0.058244981 | BI27: 0.057772315 | BJ27: 0.057324147 | BK27: 0.056609677 | BL27: 0.055915779 | BM27: 0.055241415 | BN27: 0.054585619 | BO27: 0.053947488 | BP27: 0.053326178 | BQ27: 0.052720902 | BR27: 0.05213092 | BS27: 0.051555542 | BT27: 0.050994117 | BU27: 0.050446036 | BV27: 0.049910727 | BW27: 0.04938765 | BX27: 0.048876298 | BY27: 0.048376192 | BZ27: 0.047886882 | CA27: 0.047407941 | CB27: 0.046938966 | CC27: 0.046479576 | CD27: 0.04602941
A28: 7 | B28: =2*Shift+2*(C28*A28-C27*A27)/(A28-A27)-B27 -> -0.12994797 | C28: -0.0008887459
A29: 7.5 | B29: =2*Shift+2*(C29*A29-C28*A28)/(A29-A28)-B28 -> -0.12920126 | C29: -0.00096006131 | T29: X's
A30: 8 | B30: =2*Shift+2*(C30*A30-C29*A29)/(A30-A29)-B29 -> -0.12973441 | C30: -0.0010157885 | T30: State 1 | U30: {=U9:CD9} -> 0.6843329 | V30: 0.37406782 | W30: 0.20332939 | X30: 0.10243642 | Y30: 0.06829485 | Z30: 0.05122116 | AA30: 0.040976928 | AB30: 0.03414744 | AC30: 0.029269234 | AD30: 0.02561058 | AE30: 0.02276496 | AF30: 0.020488464 | AG30: 0.018625876 | AH30: 0.01707372 | AI30: 0.015760357 | AJ30: 0.014634617 | AK30: 0.013658976 | AL30: 0.01280529 | AM30: 0.012052038 | AN30: 0.01138248 | AO30: 0.010783402 | AP30: 0.010244232 | AQ30: 0.0097564115 | AR30: 0.0093129382 | AS30: 0.0089080278 | AT30: 0.00853686 | AU30: 0.0081953856 | AV30: 0.0078801785 | AW30: 0.00758832 | AX30: 0.0073173086 | AY30: 0.0070649876 | AZ30: 0.006829488 | BA30: 0.006609182 | BB30: 0.006402645 | BC30: 0.0062086255 | BD30: 0.0060260188 | BE30: 0.0058538469 | BF30: 0.00569124 | BG30: 0.0055374227 | BH30: 0.0053917011 | BI30: 0.0052534523 | BJ30: 0.005122116 | BK30: 0.0049971864 | BL30: 0.0048782057 | BM30: 0.0047647591 | BN30: 0.0046564691 | BO30: 0.004552992 | BP30: 0.0044540139 | BQ30: 0.0043592477 | BR30: 0.00426843 | BS30: 0.0041813192 | BT30: 0.0040976928 | BU30: 0.0040173459 | BV30: 0.0039400892 | BW30: 0.0038657479 | BX30: 0.00379416 | BY30: 0.0037251753 | BZ30: 0.0036586543 | CA30: 0.0035944674 | CB30: 0.0035324938 | CC30: 0.003472621 | CD30: 0.003414744
A31: 8.5 | B31: =2*Shift+2*(C31*A31-C30*A30)/(A31-A30)-B30 -> -0.12890984 | C31: -0.0010563881 | T31: State 2 | U31: {=U14:CD14} -> 0.99161358 | V31: 0.97509877 | W31: 0.95095958 | X31: 0.90488136 | Y31: 0.86159619 | Z31: 0.82094019 | AA31: 0.78275551 | AB31: 0.74689087 | AC31: 0.71320192 | AD31: 0.68155148 | AE31: 0.65180953 | AF31: 0.62385327 | AG31: 0.5975669 | AH31: 0.57284156 | AI31: 0.54957501 | AJ31: 0.52767141 | AK31: 0.50704107 | AL31: 0.4876001 | AM31: 0.46927016 | AN31: 0.45197811 | AO31: 0.43565576 | AP31: 0.42023953 | AQ31: 0.40567021 | AR31: 0.39189263 | AS31: 0.37885544 | AT31: 0.36651084 | AU31: 0.35481436 | AV31: 0.34372458 | AW31: 0.333203 | AX31: 0.32321375 | AY31: 0.31372347 | AZ31: 0.30470113 | BA31: 0.29611779 | BB31: 0.28794656 | BC31: 0.28016237 | BD31: 0.27274187 | BE31: 0.2656633 | BF31: 0.25890639 | BG31: 0.25245222 | BH31: 0.24628318 | BI31: 0.2403828 | BJ31: 0.23473573 | BK31: 0.22932763 | BL31: 0.2241451 | BM31: 0.21917562 | BN31: 0.2144075 | BO31: 0.20982978 | BP31: 0.20543221 | BQ31: 0.20120521 | BR31: 0.19713979 | BS31: 0.19322752 | BT31: 0.18946051 | BU31: 0.18583135 | BV31: 0.18233309 | BW31: 0.1789592 | BX31: 0.17570354 | BY31: 0.17256034 | BZ31: 0.16952419 | CA31: 0.16658998 | CB31: 0.16375289 | CC31: 0.16100841 | CD31: 0.15835226
A32: 9 | B32: =2*Shift+2*(C32*A32-C31*A31)/(A32-A31)-B31 -> -0.12936821 | C32: -0.0010823045 | T32: State 3 | U32: {=U19:CD19} -> 0.99999657 | V32: 0.99997337 | W32: 0.99989774 | X32: 0.99959958 | Y32: 0.99910597 | Z32: 0.99841757 | AA32: 0.99753537 | AB32: 0.9964606 | AC32: 0.99519476 | AD32: 0.9937396 | AE32: 0.99209713 | AF32: 0.99026962 | AG32: 0.98825955 | AH32: 0.98606966 | AI32: 0.98370288 | AJ32: 0.98116238 | AK32: 0.97845151 | AL32: 0.97557382 | AM32: 0.97253303 | AN32: 0.96933304 | AO32: 0.96597787 | AP32: 0.96247174 | AQ32: 0.95881895 | AR32: 0.95502393 | AS32: 0.95109123 | AT32: 0.94702547 | AU32: 0.94283137 | AV32: 0.9385137 | AW32: 0.9340773 | AX32: 0.92952704 | AY32: 0.92486783 | AZ32: 0.92010459 | BA32: 0.91524225 | BB32: 0.91028575 | BC32: 0.90524001 | BD32: 0.90010992 | BE32: 0.89490034 | BF32: 0.8896161 | BG32: 0.88426198 | BH32: 0.87884269 | BI32: 0.87336289 | BJ32: 0.86782715 | BK32: 0.86223998 | BL32: 0.85660581 | BM32: 0.85092896 | BN32: 0.84521367 | BO32: 0.83946408 | BP32: 0.83368424 | BQ32: 0.82787807 | BR32: 0.8220494 | BS32: 0.81620195 | BT32: 0.81033932 | BU32: 0.80446501 | BV32: 0.79858238 | BW32: 0.79269469 | BX32: 0.7868051 | BY32: 0.78091662 | BZ32: 0.77503216 | CA32: 0.76915453 | CB32: 0.7632864 | CC32: 0.75743034 | CD32: 0.7515888
A33: 9.5 | B33: =2*Shift+2*(C33*A33-C32*A32)/(A33-A32)-B32 -> -0.1284716 | C33: -0.0010939603
A34: 10 | B34: =2*Shift+2*(C34*A34-C33*A33)/(A34-A33)-B33 -> -0.1288604 | C34: -0.0010917551 | T34: Initial
A35: 10.5 | B35: =2*Shift+2*(C35*A35-C34*A34)/(A35-A34)-B34 -> -0.1284987 | C35: -0.0010904053 | S35: =IF(MIN(U35:U37)>0,"No Negative State Variables!","Negative") -> No Negative State Variables! | T35: State 3 | U35: {=TRANSPOSE(LINEST(_xlfn.ANCHORARRAY(U27),U30:CD32,FALSE))} -> 0.045634853
A36: 11 | B36: =2*Shift+2*(C36*A36-C35*A35)/(A36-A35)-B35 -> -0.12828094 | C36: -0.0010760089 | T36: State 2 | U36: 0.069480242
A37: 11.5 | B37: =2*Shift+2*(C37*A37-C36*A36)/(A37-A36)-B36 -> -0.12785702 | C37: -0.0010489147 | T37: State 1 | U37: 0.061486959
A38: 12 | B38: =2*Shift+2*(C38*A38-C37*A37)/(A38-A37)-B37 -> -0.12757882 | C38: -0.0010094509 | U38: 0
A39: 12.5 | B39: =2*Shift+2*(C39*A39-C38*A38)/(A39-A38)-B38 -> -0.12709614 | C39: -0.00095792648
A40: 13 | B40: =2*Shift+2*(C40*A40-C39*A39)/(A40-A39)-B39 -> -0.12676073 | C40: -0.00089463287
A41: 13.5 | B41: =2*Shift+2*(C41*A41-C40*A40)/(A41-A40)-B40 -> -0.1262223 | C41: -0.00081984557
A42: 14 | B42: =2*Shift+2*(C42*A42-C41*A41)/(A42-A41)-B41 -> -0.12583253 | C42: -0.00073382523 | T42: Bootstrap
A43: 14.5 | B43: =2*Shift+2*(C43*A43-C42*A42)/(A43-A42)-B42 -> -0.12524103 | C43: -0.00063681882 | U43: Coupon Curve | X43: Zero Conversion
A44: 15 | B44: =2*Shift+2*(C44*A44-C43*A43)/(A44-A43)-B43 -> -0.12479939 | C44: -0.00052906043 | U44: mat | V44: yield | X44: Maturity in Year | Y44: Linear Interpolation | Z44: Discount Factor | AA44: Cumulative Sum of DF | AB44: Discrete zero | AC44: Continuous Compound Zero
A45: 15.5 | B45: =2*Shift+2*(C45*A45-C44*A44)/(A45-A44)-B44 -> -0.12415713 | C45: -0.00041077202 | U45: 1m | V45: ='Tsy Recalibration'!M5 -> 0.0438 | X45: =1/12 -> 0.083333333 | Y45: =V45 -> 0.0438 | AB45: =Y45 -> 0.0438 | AC45: =LN((1+AB45/2)/(1+AB45*5/12))*12 -> 0.042938065
A46: 16 | B46: =2*Shift+2*(C46*A46-C45*A45)/(A46-A45)-B45 -> -0.12366578 | C46: -0.00028216398 | U46: 3m | V46: ='Tsy Recalibration'!M6 -> 0.0432 | X46: 0.25 | Y46: =V46 -> 0.0432 | AB46: =Y46 -> 0.0432 | AC46: =LN((1+AB46/2)/(1+AB46/4))*4 -> 0.042511717
A47: 16.5 | B47: =2*Shift+2*(C47*A47-C46*A46)/(A47-A46)-B46 -> -0.12297476 | C47: -0.00014343556 | U47: 6m | V47: ='Tsy Recalibration'!M7 -> 0.0425 | X47: 0.5 | Y47: =V47 -> 0.0425 | Z47: =(1+Y47/2)^(-1) -> 0.97919217 | AA47: =Z47 -> 0.97919217 | AB47: =Y47 -> 0.0425 | AC47: =LN(1+AB47/2)*2 -> 0.042054734
A48: 17 | B48: =2*Shift+2*(C48*A48-C47*A47)/(A48-A47)-B47 -> -0.12243549 | C48: 5.2248308e-06 | U48: 1y | V48: ='Tsy Recalibration'!M8 -> 0.0408 | X48: 1 | Y48: =V48 -> 0.0408 | Z48: =(1-(Y48/2)*AA47)/(1+Y48/2) -> 0.96043167 | AA48: =AA47+Z48 -> 1.9396238 | AB48: =(Z48)^(-1/X48)-1 -> 0.041198481 | AC48: =LN(1+AB48) -> 0.040372436
A49: 17.5 | B49: =2*Shift+2*(C49*A49-C48*A48)/(A49-A48)-B48 -> -0.12169732 | C49: 0.00016363943 | U49: 2y | V49: ='Tsy Recalibration'!M9 -> 0.0399 | X49: =X48+0.5 -> 1.5 | Y49: =(Y48+Y50)/2 -> 0.04035 | Z49: =(1-(Y49/2)*AA48)/(1+Y49/2) -> 0.94186594 | AA49: =AA48+Z49 -> 2.8814898 | AB49: =(Z49)^(-1/X49)-1 -> 0.040736064 | AC49: =LN(1+AB49) -> 0.039928217
A50: 18 | B50: =2*Shift+2*(C50*A50-C49*A49)/(A50-A49)-B49 -> -0.12111157 | C50: 0.00033164104 | U50: 3y | V50: ='Tsy Recalibration'!M10 -> 0.0399 | X50: =X49+0.5 -> 2 | Y50: =V49 -> 0.0399 | Z50: =(1-(Y50/2)*AA49)/(1+Y50/2) -> 0.9240789 | AA50: =AA49+Z50 -> 3.8055687 | AB50: =((Z50)^(-1))^(1/X50)-1 -> 0.040268557 | AC50: =LN(1+AB50) -> 0.039478908
A51: 18.5 | B51: =2*Shift+2*(C51*A51-C50*A50)/(A51-A50)-B50 -> -0.12032747 | C51: 0.00050907298 | U51: 5y | V51: ='Tsy Recalibration'!M11 -> 0.0403 | X51: =X50+0.5 -> 2.5 | Y51: =(Y50+Y52)/2 -> 0.0399 | Z51: =(1-(Y51/2)*AA50)/(1+Y51/2) -> 0.90600412 | AA51: =AA50+Z51 -> 4.7115728 | AB51: =((Z51)^(-1))^(1/X51)-1 -> 0.040274446 | AC51: =LN(1+AB51) -> 0.039484569
A52: 19 | B52: =2*Shift+2*(C52*A52-C51*A51)/(A52-A51)-B51 -> -0.11969624 | C52: 0.00069578916 | U52: 7y | V52: ='Tsy Recalibration'!M12 -> 0.0414 | X52: =X51+0.5 -> 3 | Y52: =V50 -> 0.0399 | Z52: =(1-(Y52/2)*AA51)/(1+Y52/2) -> 0.88828288 | AA52: =AA51+Z52 -> 5.5998557 | AB52: =((Z52)^(-1))^(1/X52)-1 -> 0.040278372 | AC52: =LN(1+AB52) -> 0.039488343
A53: 19.5 | B53: =2*Shift+2*(C53*A53-C52*A52)/(A53-A52)-B52 -> -0.11886699 | C53: 0.00089165424 | U53: 10y | V53: ='Tsy Recalibration'!M13 -> 0.0424 | X53: =X52+0.5 -> 3.5 | Y53: =(Y52+Y54)/2 -> 0.04 | Z53: =(1-(Y53/2)*AA52)/(1+Y53/2) -> 0.87059106 | AA53: =AA52+Z53 -> 6.4704468 | AB53: =((Z53)^(-1))^(1/X53)-1 -> 0.040389454 | AC53: =LN(1+AB53) -> 0.039595118
A54: 20 | B54: =2*Shift+2*(C54*A54-C53*A53)/(A54-A53)-B53 -> -0.11819082 | C54: 0.0010965438 | U54: 20y | V54: ='Tsy Recalibration'!M14 -> 0.0455 | X54: =X53+0.5 -> 4 | Y54: =(Y52+Y56)/2 -> 0.0401 | Z54: =(1-(Y54/2)*AA53)/(1+Y54/2) -> 0.85316165 | AA54: =AA53+Z54 -> 7.3236084 | AB54: =((Z54)^(-1))^(1/X54)-1 -> 0.040500201 | AC54: =LN(1+AB54) -> 0.03970156
A55: 20.5 | B55: =2*Shift+2*(C55*A55-C54*A54)/(A55-A54)-B54 -> -0.14108548 | C55: 0.0010204816 | U55: 30y | V55: ='Tsy Recalibration'!M15 -> 0.0451 | X55: =X54+0.5 -> 4.5 | Y55: =(Y54+Y56)/2 -> 0.0402 | Z55: =(1-(Y55/2)*AA54)/(1+Y55/2) -> 0.83599203 | AA55: =AA54+Z55 -> 8.1596004 | AB55: =((Z55)^(-1))^(1/X55)-1 -> 0.040611003 | AC55: =LN(1+AB55) -> 0.039808044
A56: 21 | B56: =2*Shift+2*(C56*A56-C55*A55)/(A56-A55)-B55 -> -0.11793414 | C56: 0.00095109712 | W56: 1 | X56: =X55+0.5 -> 5 | Y56: =V51 -> 0.0403 | Z56: =(1-(Y56/2)*AA55)/(1+Y56/2) -> 0.8190796 | AA56: =AA55+Z56 -> 8.97868 | AB56: =((Z56)^(-1))^(1/X56)-1 -> 0.040722103 | AC56: =LN(1+AB56) -> 0.039914802
A57: 21.5 | B57: =2*Shift+2*(C57*A57-C56*A56)/(A57-A56)-B56 -> -0.1408179 | C57: 0.00088805116 | X57: =X56+0.5 -> 5.5 | Y57: =(Y56+Y58)/2 -> 0.040575 | Z57: =(1-(Y57/2)*AA56)/(1+Y57/2) -> 0.80158292 | AA57: =AA56+Z57 -> 9.780263 | AB57: =((Z57)^(-1))^(1/X57)-1 -> 0.041031613 | AC57: =LN(1+AB57) -> 0.040212157
A58: 22 | B58: =2*Shift+2*(C58*A58-C57*A57)/(A58-A57)-B57 -> -0.11765702 | C58: 0.00083101994 | X58: =X57+0.5 -> 6 | Y58: =(Y56+Y60)/2 -> 0.04085 | Z58: =(1-(Y58/2)*AA57)/(1+Y58/2) -> 0.78422043 | AA58: =AA57+Z58 -> 10.564483 | AB58: =((Z58)^(-1))^(1/X58)-1 -> 0.041342615 | AC58: =LN(1+AB58) -> 0.040510857
A59: 22.5 | B59: =2*Shift+2*(C59*A59-C58*A58)/(A59-A58)-B58 -> -0.14053256 | C59: 0.00077969388 | X59: =X58+0.5 -> 6.5 | Y59: =(Y58+Y60)/2 -> 0.041125 | Z59: =(1-(Y59/2)*AA58)/(1+Y59/2) -> 0.76699645 | AA59: =AA58+Z59 -> 11.33148 | AB59: =((Z59)^(-1))^(1/X59)-1 -> 0.041655472 | AC59: =LN(1+AB59) -> 0.040811248
A60: 23 | B60: =2*Shift+2*(C60*A60-C59*A59)/(A60-A59)-B59 -> -0.11736472 | C60: 0.00073377658 | X60: =X59+0.5 -> 7 | Y60: =V52 -> 0.0414 | Z60: =(1-(Y60/2)*AA59)/(1+Y60/2) -> 0.74991512 | AA60: =AA59+Z60 -> 12.081395 | AB60: =((Z60)^(-1))^(1/X60)-1 -> 0.041970474 | AC60: =LN(1+AB60) -> 0.041113607
A61: 23.5 | B61: =2*Shift+2*(C61*A61-C60*A60)/(A61-A60)-B60 -> -0.14023451 | C61: 0.00069298403 | X61: =X60+0.5 -> 7.5 | Y61: =(Y60+Y62)/2 -> 0.041566667 | Z61: =(1-(Y61/2)*AA60)/(1+Y61/2) -> 0.73366043 | AA61: =AA60+Z61 -> 12.815055 | AB61: =((Z61)^(-1))^(1/X61)-1 -> 0.042159009 | AC61: =LN(1+AB61) -> 0.041294531
A62: 24 | B62: =2*Shift+2*(C62*A62-C61*A61)/(A62-A61)-B61 -> -0.11706207 | C62: 0.00065704374 | X62: =X61+0.5 -> 8 | Y62: =Y60+(Y66-Y60)/3 -> 0.041733333 | Z62: =(1-(Y62/2)*AA61)/(1+Y62/2) -> 0.71761821 | AA62: =AA61+Z62 -> 13.532674 | AB62: =((Z62)^(-1))^(1/X62)-1 -> 0.042349395 | AC62: =LN(1+AB62) -> 0.041477199
A63: 24.5 | B63: =2*Shift+2*(C63*A63-C62*A62)/(A63-A62)-B62 -> -0.13992838 | C63: 0.00062569417 | X63: =X62+0.5 -> 8.5 | Y63: =(Y62+Y64)/2 -> 0.0419 | Z63: =(1-(Y63/2)*AA62)/(1+Y63/2) -> 0.70178803 | AA63: =AA62+Z63 -> 14.234462 | AB63: =((Z63)^(-1))^(1/X63)-1 -> 0.042541657 | AC63: =LN(1+AB63) -> 0.041661632
A64: 25 | B64: =2*Shift+2*(C64*A64-C63*A63)/(A64-A63)-B63 -> -0.11675352 | C64: 0.00059868409 | X64: =X63+0.5 -> 9 | Y64: =(Y62+Y66)/2 -> 0.042066667 | Z64: =(1-(Y64/2)*AA63)/(1+Y64/2) -> 0.68616939 | AA64: =AA63+Z64 -> 14.920631 | AB64: =((Z64)^(-1))^(1/X64)-1 -> 0.042735826 | AC64: =LN(1+AB64) -> 0.041847861
A65: 25.5 | B65: =2*Shift+2*(C65*A65-C64*A64)/(A65-A64)-B64 -> -0.13961842 | C65: 0.00057577204 | X65: =X64+0.5 -> 9.5 | Y65: =(Y64+Y66)/2 -> 0.042233333 | Z65: =(1-(Y65/2)*AA64)/(1+Y65/2) -> 0.67076176 | AA65: =AA64+Z65 -> 15.591393 | AB65: =((Z65)^(-1))^(1/X65)-1 -> 0.042931943 | AC65: =LN(1+AB65) -> 0.042035922
A66: 26 | B66: =2*Shift+2*(C66*A66-C65*A65)/(A66-A65)-B65 -> -0.11644312 | C66: 0.0005567259 | X66: =X65+0.5 -> 10 | Y66: =V53 -> 0.0424 | Z66: =(1-(Y66/2)*AA65)/(1+Y66/2) -> 0.65556451 | AA66: =AA65+Z66 -> 16.246957 | AB66: =((Z66)^(-1))^(1/X66)-1 -> 0.043130051 | AC66: =LN(1+AB66) -> 0.042225857
A67: 26.5 | B67: =2*Shift+2*(C67*A67-C66*A66)/(A67-A66)-B66 -> -0.13930848 | C67: 0.00054132245 | X67: =X66+0.5 -> 10.5 | Y67: =Y66+(Y76-Y66)/10 -> 0.042555 | Z67: =(1-(Y67/2)*AA66)/(1+Y67/2) -> 0.64067344 | AA67: =AA66+Z67 -> 16.887631 | AB67: =((Z67)^(-1))^(1/X67)-1 -> 0.043315238 | AC67: =LN(1+AB67) -> 0.042403372
A68: 27 | B68: =2*Shift+2*(C68*A68-C67*A67)/(A68-A67)-B67 -> -0.11613451 | C68: 0.00052934699 | X68: =X67+0.5 -> 11 | Y68: =Y66+2*(Y76-Y66)/10 -> 0.04271 | Z68: =(1-(Y68/2)*AA67)/(1+Y68/2) -> 0.62599649 | AA68: =AA67+Z68 -> 17.513627 | AB68: =((Z68)^(-1))^(1/X68)-1 -> 0.043502428 | AC68: =LN(1+AB68) -> 0.042582774
A69: 27.5 | B69: =2*Shift+2*(C69*A69-C68*A68)/(A69-A68)-B68 -> -0.13900202 | C69: 0.000520593 | X69: =X68+0.5 -> 11.5 | Y69: =Y66+3*(Y76-Y66)/10 -> 0.042865 | Z69: =(1-(Y69/2)*AA68)/(1+Y69/2) -> 0.61153251 | AA69: =AA68+Z69 -> 18.12516 | AB69: =((Z69)^(-1))^(1/X69)-1 -> 0.043691659 | AC69: =LN(1+AB69) -> 0.0427641
A70: 28 | B70: =2*Shift+2*(C70*A70-C69*A69)/(A70-A69)-B69 -> -0.11583097 | C70: 0.00051486179 | X70: =X69+0.5 -> 12 | Y70: =Y66+4*(Y76-Y66)/10 -> 0.04302 | Z70: =(1-(Y70/2)*AA69)/(1+Y70/2) -> 0.59728031 | AA70: =AA69+Z70 -> 18.72244 | AB70: =((Z70)^(-1))^(1/X70)-1 -> 0.04388298 | AC70: =LN(1+AB70) -> 0.042947395
A71: 28.5 | B71: =2*Shift+2*(C71*A71-C70*A70)/(A71-A70)-B70 -> -0.13870214 | C71: 0.00051196222 | X71: =X70+0.5 -> 12.5 | Y71: =Y66+5*(Y76-Y66)/10 -> 0.043175 | Z71: =(1-(Y71/2)*AA70)/(1+Y71/2) -> 0.58323866 | AA71: =AA70+Z71 -> 19.305679 | AB71: =((Z71)^(-1))^(1/X71)-1 -> 0.04407644 | AC71: =LN(1+AB71) -> 0.043132705
A72: 29 | B72: =2*Shift+2*(C72*A72-C71*A71)/(A72-A71)-B71 -> -0.11553542 | C72: 0.00051171049 | X72: =X71+0.5 -> 13 | Y72: =Y66+6*(Y76-Y66)/10 -> 0.04333 | Z72: =(1-(Y72/2)*AA71)/(1+Y72/2) -> 0.56940628 | AA72: =AA71+Z72 -> 19.875085 | AB72: =((Z72)^(-1))^(1/X72)-1 -> 0.044272094 | AC72: =LN(1+AB72) -> 0.043320082
A73: 29.5 | B73: =2*Shift+2*(C73*A73-C72*A72)/(A73-A72)-B72 -> -0.13841156 | C73: 0.00051392976 | X73: =X72+0.5 -> 13.5 | Y73: =Y66+7*(Y76-Y66)/10 -> 0.043485 | Z73: =(1-(Y73/2)*AA72)/(1+Y73/2) -> 0.55578188 | AA73: =AA72+Z73 -> 20.430867 | AB73: =((Z73)^(-1))^(1/X73)-1 -> 0.044470003 | AC73: =LN(1+AB73) -> 0.043509583
A74: 30 | B74: =2*Shift+2*(C74*A74-C73*A73)/(A74-A73)-B73 -> -0.11525043 | C74: 0.00051845 | X74: =X73+0.5 -> 14 | Y74: =Y66+8*(Y76-Y66)/10 -> 0.04364 | Z74: =(1-(Y74/2)*AA73)/(1+Y74/2) -> 0.5423641 | AA74: =AA73+Z74 -> 20.973231 | AB74: =((Z74)^(-1))^(1/X74)-1 -> 0.04467023 | AC74: =LN(1+AB74) -> 0.043701266
X75: =X74+0.5 -> 14.5 | Y75: =Y66+9*(Y76-Y66)/10 -> 0.043795 | Z75: =(1-(Y75/2)*AA74)/(1+Y75/2) -> 0.52915158 | AA75: =AA74+Z75 -> 21.502383 | AB75: =((Z75)^(-1))^(1/X75)-1 -> 0.044872843 | AC75: =LN(1+AB75) -> 0.043895197
X76: =X75+0.5 -> 15 | Y76: =(Y66+Y86)/2 -> 0.04395 | Z76: =(1-(Y76/2)*AA75)/(1+Y76/2) -> 0.5161429 | AA76: =AA75+Z76 -> 22.018525 | AB76: =((Z76)^(-1))^(1/X76)-1 -> 0.045077913 | AC76: =LN(1+AB76) -> 0.04409144
X77: =X76+0.5 -> 15.5 | Y77: =Y76+(Y86-Y76)/10 -> 0.044105 | Z77: =(1-(Y77/2)*AA76)/(1+Y77/2) -> 0.50333664 | AA77: =AA76+Z77 -> 22.521862 | AB77: =((Z77)^(-1))^(1/X77)-1 -> 0.045285516 | AC77: =LN(1+AB77) -> 0.044290069
X78: =X77+0.5 -> 16 | Y78: =Y76+2*(Y86-Y76)/10 -> 0.04426 | Z78: =(1-(Y78/2)*AA77)/(1+Y78/2) -> 0.49073131 | AA78: =AA77+Z78 -> 23.012593 | AB78: =((Z78)^(-1))^(1/X78)-1 -> 0.045495733 | AC78: =LN(1+AB78) -> 0.044491158
X79: =X78+0.5 -> 16.5 | Y79: =Y76+3*(Y86-Y76)/10 -> 0.044415 | Z79: =(1-(Y79/2)*AA78)/(1+Y79/2) -> 0.47832542 | AA79: =AA78+Z79 -> 23.490919 | AB79: =((Z79)^(-1))^(1/X79)-1 -> 0.045708647 | AC79: =LN(1+AB79) -> 0.044694787
X80: =X79+0.5 -> 17 | Y80: =Y76+4*(Y86-Y76)/10 -> 0.04457 | Z80: =(1-(Y80/2)*AA79)/(1+Y80/2) -> 0.46611745 | AA80: =AA79+Z80 -> 23.957036 | AB80: =((Z80)^(-1))^(1/X80)-1 -> 0.045924348 | AC80: =LN(1+AB80) -> 0.044901038
X81: =X80+0.5 -> 17.5 | Y81: =Y76+5*(Y86-Y76)/10 -> 0.044725 | Z81: =(1-(Y81/2)*AA80)/(1+Y81/2) -> 0.45410584 | AA81: =AA80+Z81 -> 24.411142 | AB81: =((Z81)^(-1))^(1/X81)-1 -> 0.046142929 | AC81: =LN(1+AB81) -> 0.045109999
X82: =X81+0.5 -> 18 | Y82: =Y76+6*(Y86-Y76)/10 -> 0.04488 | Z82: =(1-(Y82/2)*AA81)/(1+Y82/2) -> 0.44228901 | AA82: =AA81+Z82 -> 24.853431 | AB82: =((Z82)^(-1))^(1/X82)-1 -> 0.046364488 | AC82: =LN(1+AB82) -> 0.045321764
X83: =X82+0.5 -> 18.5 | Y83: =Y76+7*(Y86-Y76)/10 -> 0.045035 | Z83: =(1-(Y83/2)*AA82)/(1+Y83/2) -> 0.43066536 | AA83: =AA82+Z83 -> 25.284096 | AB83: =((Z83)^(-1))^(1/X83)-1 -> 0.046589129 | AC83: =LN(1+AB83) -> 0.045536428
X84: =X83+0.5 -> 19 | Y84: =Y76+8*(Y86-Y76)/10 -> 0.04519 | Z84: =(1-(Y84/2)*AA83)/(1+Y84/2) -> 0.41923327 | AA84: =AA83+Z84 -> 25.70333 | AB84: =((Z84)^(-1))^(1/X84)-1 -> 0.046816961 | AC84: =LN(1+AB84) -> 0.045754094
X85: =X84+0.5 -> 19.5 | Y85: =Y76+9*(Y86-Y76)/10 -> 0.045345 | Z85: =(1-(Y85/2)*AA84)/(1+Y85/2) -> 0.40799108 | AA85: =AA84+Z85 -> 26.111321 | AB85: =((Z85)^(-1))^(1/X85)-1 -> 0.047048099 | AC85: =LN(1+AB85) -> 0.04597487
X86: =X85+0.5 -> 20 | Y86: =V54 -> 0.0455 | Z86: =(1-(Y86/2)*AA85)/(1+Y86/2) -> 0.39693713 | AA86: =AA85+Z86 -> 26.508258 | AB86: =((Z86)^(-1))^(1/X86)-1 -> 0.047282662 | AC86: =LN(1+AB86) -> 0.046198868
X87: =X86+0.5 -> 20.5 | Y87: =Y86+(Y96-Y86)/10 -> 0.04548 | Z87: =(1-(Y87/2)*AA86)/(1+Y87/2) -> 0.38837067 | AA87: =AA86+Z87 -> 26.896629 | AB87: =((Z87)^(-1))^(1/X87)-1 -> 0.047217184 | AC87: =LN(1+AB87) -> 0.046136345
X88: =X87+0.5 -> 21 | Y88: =Y86+2*(Y96-Y86)/10 -> 0.04546 | Z88: =(1-(Y88/2)*AA87)/(1+Y88/2) -> 0.38000218 | AA88: =AA87+Z88 -> 27.276631 | AB88: =((Z88)^(-1))^(1/X88)-1 -> 0.047153108 | AC88: =LN(1+AB88) -> 0.046075156
X89: =X88+0.5 -> 21.5 | Y89: =Y86+3*(Y96-Y86)/10 -> 0.04544 | Z89: =(1-(Y89/2)*AA88)/(1+Y89/2) -> 0.37182704 | AA89: =AA88+Z89 -> 27.648458 | AB89: =((Z89)^(-1))^(1/X89)-1 -> 0.047090311 | AC89: =LN(1+AB89) -> 0.046015185
X90: =X89+0.5 -> 22 | Y90: =Y86+4*(Y96-Y86)/10 -> 0.04542 | Z90: =(1-(Y90/2)*AA89)/(1+Y90/2) -> 0.3638407 | AA90: =AA89+Z90 -> 28.012299 | AB90: =((Z90)^(-1))^(1/X90)-1 -> 0.047028681 | AC90: =LN(1+AB90) -> 0.045956325
X91: =X90+0.5 -> 22.5 | Y91: =Y86+5*(Y96-Y86)/10 -> 0.0454 | Z91: =(1-(Y91/2)*AA90)/(1+Y91/2) -> 0.35603874 | AA91: =AA90+Z91 -> 28.368337 | AB91: =((Z91)^(-1))^(1/X91)-1 -> 0.046968114 | AC91: =LN(1+AB91) -> 0.045898477
X92: =X91+0.5 -> 23 | Y92: =Y86+6*(Y96-Y86)/10 -> 0.04538 | Z92: =(1-(Y92/2)*AA91)/(1+Y92/2) -> 0.34841685 | AA92: =AA91+Z92 -> 28.716754 | AB92: =((Z92)^(-1))^(1/X92)-1 -> 0.046908516 | AC92: =LN(1+AB92) -> 0.045841551
X93: =X92+0.5 -> 23.5 | Y93: =Y86+7*(Y96-Y86)/10 -> 0.04536 | Z93: =(1-(Y93/2)*AA92)/(1+Y93/2) -> 0.3409708 | AA93: =AA92+Z93 -> 29.057725 | AB93: =((Z93)^(-1))^(1/X93)-1 -> 0.046849801 | AC93: =LN(1+AB93) -> 0.045785465
X94: =X93+0.5 -> 24 | Y94: =Y86+8*(Y96-Y86)/10 -> 0.04534 | Z94: =(1-(Y94/2)*AA93)/(1+Y94/2) -> 0.33369648 | AA94: =AA93+Z94 -> 29.391421 | AB94: =((Z94)^(-1))^(1/X94)-1 -> 0.04679189 | AC94: =LN(1+AB94) -> 0.045730144
X95: =X94+0.5 -> 24.5 | Y95: =Y86+9*(Y96-Y86)/10 -> 0.04532 | Z95: =(1-(Y95/2)*AA94)/(1+Y95/2) -> 0.32658987 | AA95: =AA94+Z95 -> 29.718011 | AB95: =((Z95)^(-1))^(1/X95)-1 -> 0.046734707 | AC95: =LN(1+AB95) -> 0.045675516
X96: =X95+0.5 -> 25 | Y96: =(Y86+Y106)/2 -> 0.0453 | Z96: =(1-(Y96/2)*AA95)/(1+Y96/2) -> 0.31964704 | AA96: =AA95+Z96 -> 30.037658 | AB96: =((Z96)^(-1))^(1/X96)-1 -> 0.046678185 | AC96: =LN(1+AB96) -> 0.045621516
X97: =X96+0.5 -> 25.5 | Y97: =Y96+(Y106-Y96)/10 -> 0.04528 | Z97: =(1-(Y97/2)*AA96)/(1+Y97/2) -> 0.31286417 | AA97: =AA96+Z97 -> 30.350522 | AB97: =((Z97)^(-1))^(1/X97)-1 -> 0.04662226 | AC97: =LN(1+AB97) -> 0.045568084
X98: =X97+0.5 -> 26 | Y98: =Y96+2*(Y106-Y96)/10 -> 0.04526 | Z98: =(1-(Y98/2)*AA97)/(1+Y98/2) -> 0.30623752 | AA98: =AA97+Z98 -> 30.65676 | AB98: =((Z98)^(-1))^(1/X98)-1 -> 0.046566875 | AC98: =LN(1+AB98) -> 0.045515164
X99: =X98+0.5 -> 26.5 | Y99: =Y96+3*(Y106-Y96)/10 -> 0.04524 | Z99: =(1-(Y99/2)*AA98)/(1+Y99/2) -> 0.29976344 | AA99: =AA98+Z99 -> 30.956523 | AB99: =((Z99)^(-1))^(1/X99)-1 -> 0.046511973 | AC99: =LN(1+AB99) -> 0.045462704
X100: =X99+0.5 -> 27 | Y100: =Y96+4*(Y106-Y96)/10 -> 0.04522 | Z100: =(1-(Y100/2)*AA99)/(1+Y100/2) -> 0.29343836 | AA100: =AA99+Z100 -> 31.249962 | AB100: =((Z100)^(-1))^(1/X100)-1 -> 0.046457504 | AC100: =LN(1+AB100) -> 0.045410654
...
